BEGIN:VCALENDAR
VERSION:2.0
PRODID:-//Renew Kosmetik - ECPv6.15.20//NONSGML v1.0//EN
CALSCALE:GREGORIAN
METHOD:PUBLISH
X-WR-CALNAME:Renew Kosmetik
X-ORIGINAL-URL:https://renew-kosmetik.de
X-WR-CALDESC:Events for Renew Kosmetik
REFRESH-INTERVAL;VALUE=DURATION:PT1H
X-Robots-Tag:noindex
X-PUBLISHED-TTL:PT1H
BEGIN:VTIMEZONE
TZID:Europe/Berlin
BEGIN:DAYLIGHT
TZOFFSETFROM:+0100
TZOFFSETTO:+0200
TZNAME:CEST
DTSTART:20240331T010000
END:DAYLIGHT
BEGIN:STANDARD
TZOFFSETFROM:+0200
TZOFFSETTO:+0100
TZNAME:CET
DTSTART:20241027T010000
END:STANDARD
BEGIN:DAYLIGHT
TZOFFSETFROM:+0100
TZOFFSETTO:+0200
TZNAME:CEST
DTSTART:20250330T010000
END:DAYLIGHT
BEGIN:STANDARD
TZOFFSETFROM:+0200
TZOFFSETTO:+0100
TZNAME:CET
DTSTART:20251026T010000
END:STANDARD
BEGIN:DAYLIGHT
TZOFFSETFROM:+0100
TZOFFSETTO:+0200
TZNAME:CEST
DTSTART:20260329T010000
END:DAYLIGHT
BEGIN:STANDARD
TZOFFSETFROM:+0200
TZOFFSETTO:+0100
TZNAME:CET
DTSTART:20261025T010000
END:STANDARD
BEGIN:DAYLIGHT
TZOFFSETFROM:+0100
TZOFFSETTO:+0200
TZNAME:CEST
DTSTART:20270328T010000
END:DAYLIGHT
BEGIN:STANDARD
TZOFFSETFROM:+0200
TZOFFSETTO:+0100
TZNAME:CET
DTSTART:20271031T010000
END:STANDARD
END:VTIMEZONE
BEGIN:VEVENT
DTSTART;TZID=Europe/Berlin:20260429T100000
DTEND;TZID=Europe/Berlin:20260429T170000
DTSTAMP:20260423T194823
CREATED:20250831T190448Z
LAST-MODIFIED:20250831T190448Z
UID:28697-1777456800-1777482000@renew-kosmetik.de
SUMMARY:Professional deep cleansing
DESCRIPTION:Exclusive Hands-On Workshop: “Professional Deep Cleansing” \nWould you finally like to work confidently and assuredly during extractions—without doubting whether your hand placement is correct?\nIn our intensive hands-on workshop by Renew Cosmetics\, you’ll learn the art of professional deep cleansing step by step and practice it directly on numerous models. \nYour instructor:\nOlga Izieva – Heilpraktikerin and skin expert in aesthetic cosmetology \nWhat you can expect: \n\nPrecise understanding of the differences between traumatic and atraumatic extractions\nAll phases and specifics of classic deep cleansing—explained in a practical way\nProper skin preparation: what can be treated and what cannot\nHands-on training: learn to correctly palpate the skin and underlying structures\nPerfect hand positioning: practice\, correct\, consolidate—so you can apply the technique immediately in your studio\n\nWhat makes it special:\nThis workshop is not a theory seminar—you will spend most of the time working practically and training intensively on different models. \nTake your treatments to the next level and deliver results that delight your clients—and set your studio apart from the competition. \nSecure your spot now—places are strictly limited!
URL:https://renew-kosmetik.de/en/event/professional-deep-cleansing
LOCATION:RENEW Cosmetics Kopernikusstr. 18 | 90459 Nürnberg\, Kopernikusstr. 18\, Nürnberg\, Nürnberg\, 90459\, Germany
CATEGORIES:Seminar
ATTACH;FMTTYPE=image/png:https://renew-kosmetik.de/wp-content/uploads/2025/08/Nuernberg-50.png
END:VEVENT
BEGIN:VEVENT
DTSTART;TZID=Europe/Berlin:20260428T100000
DTEND;TZID=Europe/Berlin:20260428T150000
DTSTAMP:20260423T194823
CREATED:20250831T190542Z
LAST-MODIFIED:20250831T190542Z
UID:28699-1777370400-1777388400@renew-kosmetik.de
SUMMARY:Профессиональная глубокая Чистка
DESCRIPTION:Вы косметолог и хотите освоить искусство профессиональной глубокой чистки кожи и поднять уровень своих услуг на новую высоту? Мы приглашаем вас на эксклюзивный семинар «Профессиональная глубокая Чистка» от Renew Cosmetics\, где вы научитесь всем секретам этой востребованной процедуры! \nСпикеры: \nОльга Изиева \nИнара Дадашева \n  \nНа семинаре вы узнаете: \n\nРазличия между травматической и атравматической чисткой.\nКлючевые этапы и особенности современных методик чистки лица.\nКак правильно подготовить кожу к чистке и что именно можно (а что нельзя) чистить.\nВсе нюансы и протоколы проведения чистки\, чтобы вы могли действовать уверенно и профессионально.\nВ практической части семинара вы научитесь чувствовать кожу и подкожные элементы пальцами\, а также получите ценные навыки постановки руки для выполнения идеальной чистки.\n\nПредлагайте своим клиентам услугу\, которая будет отличать ваш салон от конкурентов! Запишитесь на наш семинар уже сегодня.
URL:https://renew-kosmetik.de/en/event/%d0%bf%d1%80%d0%be%d1%84%d0%b5%d1%81%d1%81%d0%b8%d0%be%d0%bd%d0%b0%d0%bb%d1%8c%d0%bd%d0%b0%d1%8f-%d0%b3%d0%bb%d1%83%d0%b1%d0%be%d0%ba%d0%b0%d1%8f-%d1%87%d0%b8%d1%81%d1%82%d0%ba%d0%b0
LOCATION:RENEW Cosmetics Kopernikusstr. 18 | 90459 Nürnberg\, Kopernikusstr. 18\, Nürnberg\, Nürnberg\, 90459\, Germany
CATEGORIES:Seminar
ATTACH;FMTTYPE=image/png:https://renew-kosmetik.de/wp-content/uploads/2025/08/Nuernberg-49.png
END:VEVENT
BEGIN:VEVENT
DTSTART;TZID=Europe/Berlin:20251108T110000
DTEND;TZID=Europe/Berlin:20251108T160000
DTSTAMP:20260423T194823
CREATED:20250831T190710Z
LAST-MODIFIED:20250831T190710Z
UID:28702-1762599600-1762617600@renew-kosmetik.de
SUMMARY:Мезосистемы и Биорепарация
DESCRIPTION:Семинар для косметологов „Мезосистемы и Биорепарация“ от Renew Cosmetics! \nОсвойте передовые техники для восстановления и омоложения кожи\, чтобы увеличить результаты своих процедур! \nЧто Вы получите? \n\nИнформацию об инновационных стерильных мезоконцентратах\, которые позволят Вам значительно расширить спектр своих услуг и предложить клиентам уникальные решения для устранения широкого спектра эстетических проблем.\nПолное руководство по проведению биоэнзимной терапии: от подготовки кожи до завершающей маски\, чтобы клиенты могли получить максимум пользы от одной процедуры.\nГотовые протоколы и рекомендации для работы с различными типами кожи и проблемами: вы сможете адаптировать методику для каждого клиента\, делая её максимально результативной и персонализированной.\nРабочие методики для усиления эффекта и результата: узнаете\, как сочетать биоэнзимную терапию с другими процедурами для долговременного и видимого результата\, не имеющего аналогов.\n\n Освойте техники\, которые станут Вашим конкурентным преимуществом! Ваша косметологическая практика сможет предложить клиентам эффект и результат\, которых они не найдут нигде больше.
URL:https://renew-kosmetik.de/en/event/%d0%bc%d0%b5%d0%b7%d0%be%d1%81%d0%b8%d1%81%d1%82%d0%b5%d0%bc%d1%8b-%d0%b8-%d0%b1%d0%b8%d0%be%d1%80%d0%b5%d0%bf%d0%b0%d1%80%d0%b0%d1%86%d0%b8%d1%8f
LOCATION:Darmstädter Landstr. 116\, 60598 Frankfurt\, Darmstädter Landstr. 116\,\, Frankfurt\, 60598\, Germany
ATTACH;FMTTYPE=image/jpeg:https://renew-kosmetik.de/wp-content/uploads/2025/08/Nuernberg-13.jpg
END:VEVENT
BEGIN:VEVENT
DTSTART;TZID=Europe/Berlin:20251025T100000
DTEND;TZID=Europe/Berlin:20251025T180000
DTSTAMP:20260423T194823
CREATED:20250831T190832Z
LAST-MODIFIED:20251002T193516Z
UID:28704-1761386400-1761415200@renew-kosmetik.de
SUMMARY:Renew Beauty Conference 2025
DESCRIPTION:Главное событие осени 2025 для профессионалов индустрии красоты \nПрограмма мероприятия \n10:00 – 10:30 \nРегистрация участников и welcome-фуршет\nНачните день в атмосфере красоты и профессионального комьюнити.\nВас ждут изысканные угощения\, знакомства с коллегами и welcome-зона от бренда Renew. \n10:30 – 13:30 \nОфициальное открытие \nВыступление собственницы бренда Renew Cosmetics и главного методиста — Инары Дадашевой. \nБлок 1 \nТема: Безоперационные лифтинг-методики: когда косметология — это больше\, чем уход \n Ольга Андриенко — приглашённый гость\, врач\, специалист по физиологии кожи: \n\nФизиология старения: что происходит с кожей\, подкожной клетчаткой и мышцами\nПочему лифтинг — это про глубинную работу\, а не просто натяжение\nНа каких уровнях действительно можно добиться эффекта\nКак отличить «рабочую» космецевтику от просто ухода\nПочему косметолог способен достигать устойчивого anti-age результата без инъекций\n\n Инара Дадашева — Renew Cosmetics: \n\nАктивные компоненты лифтинг-косметики с медицинской точки зрения\nКак работают пептиды\, факторы роста\, ретиноиды и ферментные комплексы\nЭффективные протоколы с продуктами Renew:\n\nPRO Carboxy\nBioenzyme Therapie\nBioRepair PRO\n\n\n\n Ольга Андриенко – Практическая часть (проведение процедуры) \n13:30 – 14:30 \nОбед и нетворкинг\nОбменивайтесь впечатлениями\, делитесь кейсами и знакомьтесь с профессионалами из разных городов. \n14:30 – 16:00 \nБлок 2 \nТема:  WOW-сервис как стратегия роста  \n\nСпикер: Инара Дадашева \nВ программе: \n\nЧто на самом деле означает WOW-эффект для клиента\nПочему удержание важнее\, чем постоянный поиск новых\nКак продуманный клиентский путь влияет на продажи\n\nПрактические инструменты: \n\nКарта пути клиента\nWOW-сценарии на каждом этапе — до\, во время и после визита\nКак добавить эмоцию\, чтобы клиент вернулся\nСкрипты\, идеи welcome-сервисов\, follow-up\, подарков\, мини-обратной связи\nПримеры работающих решений из реальной практики\n\n Цель: не просто «понравилось»\, а превзошло ожидания — и превратилось в рекомендации\, лояльность и рост прибыли. \n16:00 – 16:30 \nРозыгрыш подарков и итоги конкурса в соцсетях\nПриятные сюрпризы и благодарность за вовлечённость. \n16:30 – 18:00 \nЗакрытие мероприятия и farewell-cocktail\nНеформальная часть\, где создаются самые крепкие профессиональные связи.\nВас ждёт изысканный ужин\, расслабляющая атмосфера и тёплое завершение насыщенного дня. \nПочему стоит быть на Renew Beauty Conference 2025? \n– Только живая практика и научный подход\n– Ответы на реальные вопросы косметологов\n– Новейшие протоколы Renew и подходы в anti-age работе\n– Профессиональное сообщество\, нетворкинг\, подарки\n– Один день — максимум пользы и вдохновения \nКоличество мест ограничено.\nЗарегистрируйтесь сейчас — и станьте частью сообщества\, которое двигает индустрию вперёд.
URL:https://renew-kosmetik.de/en/event/renew-beauty-conference-2025
LOCATION:Frauentorgraben 11\, 90443 Nürnberg\, Frauentorgraben 11\, 90443\, Nürnberg\, Germany
CATEGORIES:Seminar
ATTACH;FMTTYPE=image/jpeg:https://renew-kosmetik.de/wp-content/uploads/2025/08/Дизайн-без-названия-23.jpg
END:VEVENT
BEGIN:VEVENT
DTSTART;TZID=Europe/Berlin:20251008T100000
DTEND;TZID=Europe/Berlin:20251008T150000
DTSTAMP:20260423T194823
CREATED:20250831T190944Z
LAST-MODIFIED:20250831T190944Z
UID:28707-1759917600-1759935600@renew-kosmetik.de
SUMMARY:Product Training: Peels\, Fruit Acids\, and Retinol
DESCRIPTION:“Product Training: Peels\, Fruit Acids\, and Retinol” by Renew Cosmetics! \nThis seminar provides in-depth knowledge and practical skills to help you advance to a new income level! \nThe theoretical part covers topics such as: \n\nDetailed classification of acids\nEffects of retinol\nIndications and contraindications\nDifferences in the effects of retinol and acids\nSynergy\nRetinization protocols\nPeel preparation\nPost-peel regeneration\nTherapy for acne\, anti-aging\, hyperpigmentation\, couperose\, and scars\n\nIn the practical part you will learn to: \n\nConduct a comprehensive skin assessment\nDevelop presentations of treatment techniques\nCreate a detailed treatment protocol\n\nGain valuable knowledge from leading experts and put it into practice to improve the quality of your treatments! \nRegister for the seminar now.
URL:https://renew-kosmetik.de/en/event/product-training-peels-fruit-acids-and-retinol
LOCATION:RENEW Cosmetics Kopernikusstr. 18 | 90459 Nürnberg\, Kopernikusstr. 18\, Nürnberg\, Nürnberg\, 90459\, Germany
END:VEVENT
BEGIN:VEVENT
DTSTART;TZID=Europe/Berlin:20251005T110000
DTEND;TZID=Europe/Berlin:20251005T160000
DTSTAMP:20260423T194823
CREATED:20250831T192033Z
LAST-MODIFIED:20250922T135217Z
UID:28710-1759662000-1759680000@renew-kosmetik.de
SUMMARY:Эффективные пилинги сезона: от обновления до глубокого восстановления (28.09)
DESCRIPTION:Долгожданный семинар от ведущей компании по повышению квалификаций косметологов – Renew Cosmetics Deutschland:\n«Эффективные пилинги сезона: от обновления до глубокого восстановления» \n  \nСпикер: Александра Осадча \n  \nСпециально к началу сезона мы подготовили для вас самую актуальную информацию\, которая позволит не только закрыть свободные окошки\, но и порадует ваших клиентов немедленными видимыми результатами! \nСпециально к началу сезона мы подготовили самую востребованную программу\, которая поможет вам:\n✨ закрыть свободные окошки\,\n✨ повысить средний чек\,\n✨ порадовать клиентов быстрыми и видимыми результатами. \nТеоретическая часть: \n\nКислоты и их свойства: от классификации до сочетаний\nРетинол и его роль в глубинных anti-age изменениях\nПрограммы ретинизации и восстановление кожи после лета\nЭффективные методики при акне\, возрастных изменениях\, пигментации\, куперозе\nГотовые протоколы с пошаговым применением\n\nПрактическая часть: \nПроведение новой процедуры „Карбокситерапия“ \n  \nРегистрация уже открыта. Количество мест ограничено!
URL:https://renew-kosmetik.de/en/event/seminar-effektivnye-pilingi-sezona-ot-obnovleniya-do-glubokogo-vosstanovleniya-28-09
LOCATION:Paracelsus Heilpraktikerschule Stuttgart Calwer Str. 28 · 70173 Stuttgart\, Paracelsus Heilpraktikerschule Stuttgart Calwer Str. 28\, Stuttgart\, Stuttgart\, 70173\, Germany
ATTACH;FMTTYPE=image/png:https://renew-kosmetik.de/wp-content/uploads/2025/08/Nuernberg-55.png
END:VEVENT
BEGIN:VEVENT
DTSTART;TZID=Europe/Berlin:20250928T100000
DTEND;TZID=Europe/Berlin:20250928T150000
DTSTAMP:20260423T194823
CREATED:20250831T192205Z
LAST-MODIFIED:20250831T192205Z
UID:28712-1759053600-1759071600@renew-kosmetik.de
SUMMARY:Эффективные пилинги сезона: от обновления до глубокого восстановления
DESCRIPTION:Долгожданный семинар от ведущей компании по повышению квалификаций косметологов – Renew Cosmetics Deutschland:\n«Эффективные пилинги сезона: от обновления до глубокого восстановления» \n21 августа в 10:00\, Дортмунд \nСпециально к началу сезона мы подготовили для вас самую актуальную информацию\, которая позволит не только закрыть свободные окошки\, но и порадует ваших клиентов немедленными видимыми результатами! \nСпециально к началу сезона мы подготовили самую востребованную программу\, которая поможет вам:\n✨ закрыть свободные окошки\,\n✨ повысить средний чек\,\n✨ порадовать клиентов быстрыми и видимыми результатами. \nВ программе: \n\nКислоты и их свойства: от классификации до сочетаний\nРетинол и его роль в глубинных anti-age изменениях\nНовая карбокситерапия как дополнение к курсу\nБиоэнзимная процедура: инновация в уходе и восстановлении кожи\nПрограммы ретинизации и восстановление кожи после лета\nЭффективные методики при акне\, возрастных изменениях\, пигментации\, куперозе\nГотовые протоколы с пошаговым применением\n\nРегистрация уже открыта. Количество мест ограничено!
URL:https://renew-kosmetik.de/en/event/%d1%8d%d1%84%d1%84%d0%b5%d0%ba%d1%82%d0%b8%d0%b2%d0%bd%d1%8b%d0%b5-%d0%bf%d0%b8%d0%bb%d0%b8%d0%bd%d0%b3%d0%b8-%d1%81%d0%b5%d0%b7%d0%be%d0%bd%d0%b0-%d0%be%d1%82-%d0%be%d0%b1%d0%bd%d0%be%d0%b2%d0%bb-4
LOCATION:Paracelsus Heilpraktikerschule Podbielskistr. 11-19\, 30163 Hannover\, Paracelsus Heilpraktikerschule Podbielskistr. 11-19\, Hannover\, Hannover\, 30163\, Germany
CATEGORIES:Seminar
ATTACH;FMTTYPE=image/png:https://renew-kosmetik.de/wp-content/uploads/2025/08/Nuernberg-52.png
END:VEVENT
BEGIN:VEVENT
DTSTART;TZID=Europe/Berlin:20250927T100000
DTEND;TZID=Europe/Berlin:20250927T150000
DTSTAMP:20260423T194823
CREATED:20250831T192403Z
LAST-MODIFIED:20250831T192403Z
UID:28714-1758967200-1758985200@renew-kosmetik.de
SUMMARY:Effective Seasonal Peels — From Renewal to Deep Regeneration
DESCRIPTION:Advanced training seminar for estheticians by Renew Cosmetics Germany \n“Effective Seasonal Peels: From Renewal to Deep Regeneration.” The perfect start to the new season! \nSeminar program: \n✔️ Everything about acids—from basics to effective combinations\n✔️ Retinol and its effects on deep anti-aging processes\n✔️ New: Carboxytherapy as the perfect addition to the treatment plan\n✔️ Bioenzyme Therapy—brightening & regeneration through enzymes\n✔️ Structuring an acid peel regimen after summer\n✔️ Effective concepts for acne\, pigmentation spots\, couperose\, and anti-aging\n✔️ Ready-to-use protocols—explained step by step \nRegistration is already open—secure your spot now; places are limited!
URL:https://renew-kosmetik.de/en/event/effective-seasonal-peels-from-renewal-to-deep-regeneration
LOCATION:Paracelsus Heilpraktikerschule Podbielskistr. 11-19\, 30163 Hannover\, Paracelsus Heilpraktikerschule Podbielskistr. 11-19\, Hannover\, Hannover\, 30163\, Germany
ATTACH;FMTTYPE=image/png:https://renew-kosmetik.de/wp-content/uploads/2025/08/Nuernberg-54.png
END:VEVENT
BEGIN:VEVENT
DTSTART;TZID=Europe/Berlin:20250921T080000
DTEND;TZID=Europe/Berlin:20250921T170000
DTSTAMP:20260423T194823
CREATED:20250831T192514Z
LAST-MODIFIED:20250831T192514Z
UID:28716-1758441600-1758474000@renew-kosmetik.de
SUMMARY:Эффективные пилинги сезона: от обновления до глубокого восстановления (21.09)
DESCRIPTION:Долгожданный семинар от ведущей компании по повышению квалификаций косметологов – Renew Cosmetics Deutschland:\n«Эффективные пилинги сезона: от обновления до глубокого восстановления» \nСпециально к началу сезона мы подготовили для вас самую актуальную информацию\, которая позволит не только закрыть свободные окошки\, но и порадует ваших клиентов немедленными видимыми результатами! \nСпециально к началу сезона мы подготовили самую востребованную программу\, которая поможет вам:\n✨ закрыть свободные окошки\,\n✨ повысить средний чек\,\n✨ порадовать клиентов быстрыми и видимыми результатами. \nВ программе: \n\nКислоты и их свойства: от классификации до сочетаний\nРетинол и его роль в глубинных anti-age изменениях\nНовая карбокситерапия как дополнение к курсу\nБиоэнзимная процедура: инновация в уходе и восстановлении кожи\nПрограммы ретинизации и восстановление кожи после лета\nЭффективные методики при акне\, возрастных изменениях\, пигментации\, куперозе\nГотовые протоколы с пошаговым применением\n\nРегистрация уже открыта. Количество мест ограничено!
URL:https://renew-kosmetik.de/en/event/%d1%8d%d1%84%d1%84%d0%b5%d0%ba%d1%82%d0%b8%d0%b2%d0%bd%d1%8b%d0%b5-%d0%bf%d0%b8%d0%bb%d0%b8%d0%bd%d0%b3%d0%b8-%d1%81%d0%b5%d0%b7%d0%be%d0%bd%d0%b0-%d0%be%d1%82-%d0%be%d0%b1%d0%bd%d0%be%d0%b2%d0%bb-5
LOCATION:Dortmund – Trainingsschule Hansastraße 7-11.\, Paracelsus Heilpraktikerschule Hansastraße 7-11\, Dortmund\, 44137\, Germany
CATEGORIES:Seminar
ATTACH;FMTTYPE=image/png:https://renew-kosmetik.de/wp-content/uploads/2025/08/Nuernberg-51.png
END:VEVENT
BEGIN:VEVENT
DTSTART;TZID=Europe/Berlin:20250920T080000
DTEND;TZID=Europe/Berlin:20250920T170000
DTSTAMP:20260423T194823
CREATED:20250831T192628Z
LAST-MODIFIED:20250831T192628Z
UID:28719-1758355200-1758387600@renew-kosmetik.de
SUMMARY:Effective Seasonal Peels — From Renewal to Deep Regeneration
DESCRIPTION:Advanced training seminar for estheticians by Renew Cosmetics Germany \n“Effective Seasonal Peels: From Renewal to Deep Regeneration.” The perfect start to the new season! \nSeminar program: \n✔️ Everything about acids—from basics to effective combinations\n✔️ Retinol and its effects on deep anti-aging processes\n✔️ New: Carboxytherapy as the perfect addition to the treatment plan\n✔️ Bioenzyme Therapy—brightening & regeneration through enzymes\n✔️ Structuring an acid peel regimen after summer\n✔️ Effective concepts for acne\, pigmentation spots\, couperose\, and anti-aging\n✔️ Ready-to-use protocols—explained step by step \nRegistration is already open—secure your spot now; places are limited!
URL:https://renew-kosmetik.de/en/event/effective-seasonal-peels-from-renewal-to-deep-regeneration-2
LOCATION:Dortmund – Trainingsschule Hansastraße 7-11.\, Paracelsus Heilpraktikerschule Hansastraße 7-11\, Dortmund\, 44137\, Germany
CATEGORIES:Seminar
ATTACH;FMTTYPE=image/png:https://renew-kosmetik.de/wp-content/uploads/2025/08/Nuernberg-53.png
END:VEVENT
BEGIN:VEVENT
DTSTART;TZID=Europe/Berlin:20250917T080000
DTEND;TZID=Europe/Berlin:20250917T170000
DTSTAMP:20260423T194823
CREATED:20250831T192728Z
LAST-MODIFIED:20250831T192728Z
UID:28722-1758096000-1758128400@renew-kosmetik.de
SUMMARY:Вебинар „Купероз\, розацеа“
DESCRIPTION:Вы эксперт в сфере красоты???? и ежедневно сталкиваетесь с проблемами купероза и розацеа у ваших клиентов? \nПриглашаем вас на вебинар от Renew Cosmetics\, где мы поделимся с вами ключевыми знаниями и практиками! \nНа семинаре вы получите: \n\nГлубокие знания по дифференциальной диагностике купероза и розацеи;\n Проверенные протоколы лечения розацеи и купероза;\n Обзор космецевтических средств для профессионального и домашнего ухода.\n\nУсильте свой профессиональный арсенал и предложите своим клиентам решения\, которые действительно работают! \nМеста ограничены\, регистрируйтесь прямо сейчас!
URL:https://renew-kosmetik.de/en/event/%d0%b2%d0%b5%d0%b1%d0%b8%d0%bd%d0%b0%d1%80-%d0%ba%d1%83%d0%bf%d0%b5%d1%80%d0%be%d0%b7-%d1%80%d0%be%d0%b7%d0%b0%d1%86%d0%b5%d0%b0
ATTACH;FMTTYPE=image/png:https://renew-kosmetik.de/wp-content/uploads/2025/08/Nuernberg-19.png
END:VEVENT
END:VCALENDAR