BEGIN:VCALENDAR
VERSION:2.0
PRODID:-//Renew Kosmetik - ECPv6.15.20//NONSGML v1.0//EN
CALSCALE:GREGORIAN
METHOD:PUBLISH
X-ORIGINAL-URL:https://renew-kosmetik.de
X-WR-CALDESC:Veranstaltungen für Renew Kosmetik
REFRESH-INTERVAL;VALUE=DURATION:PT1H
X-Robots-Tag:noindex
X-PUBLISHED-TTL:PT1H
BEGIN:VTIMEZONE
TZID:Europe/Berlin
BEGIN:DAYLIGHT
TZOFFSETFROM:+0100
TZOFFSETTO:+0200
TZNAME:CEST
DTSTART:20250330T010000
END:DAYLIGHT
BEGIN:STANDARD
TZOFFSETFROM:+0200
TZOFFSETTO:+0100
TZNAME:CET
DTSTART:20251026T010000
END:STANDARD
BEGIN:DAYLIGHT
TZOFFSETFROM:+0100
TZOFFSETTO:+0200
TZNAME:CEST
DTSTART:20260329T010000
END:DAYLIGHT
BEGIN:STANDARD
TZOFFSETFROM:+0200
TZOFFSETTO:+0100
TZNAME:CET
DTSTART:20261025T010000
END:STANDARD
BEGIN:DAYLIGHT
TZOFFSETFROM:+0100
TZOFFSETTO:+0200
TZNAME:CEST
DTSTART:20270328T010000
END:DAYLIGHT
BEGIN:STANDARD
TZOFFSETFROM:+0200
TZOFFSETTO:+0100
TZNAME:CET
DTSTART:20271031T010000
END:STANDARD
END:VTIMEZONE
BEGIN:VEVENT
DTSTART;TZID=Europe/Berlin:20260513T110000
DTEND;TZID=Europe/Berlin:20260515T120000
DTSTAMP:20260423T191634
CREATED:20251205T200658Z
LAST-MODIFIED:20260414T210331Z
UID:30631-1778670000-1778846400@renew-kosmetik.de
SUMMARY:Anti-Aging & Glow: Das Velvet Glow RENEW-Protokoll in der Praxis (13.05)
DESCRIPTION:Anti-Aging & Glow: Das Velvet Glow RENEW-Protokoll in der Praxis \nOnline-Webinar (Live-Demonstration) \nIn diesem praxisorientierten Webinar erleben Sie das Velvet Glow Protokoll von RENEW in der direkten Anwendung. Wir zeigen Ihnen die Behandlung Schritt für Schritt live\, sodass Sie genau nachvollziehen können\, wie Anti-Aging und intensiver Glow in einer Anwendung effektiv kombiniert werden. \nSie sehen nicht nur das Ergebnis – sondern den gesamten Prozess: von der Vorbereitung der Haut bis zum finalen „Velvet Glow“-Effekt. \nSie erfahren: \n\nwie das Velvet Glow Protokoll Schritt für Schritt durchgeführt wird\,\nwelche Wirkstoffe und Produkte gezielt eingesetzt werden\,\nwie Sie sofort sichtbare Straffung und Glow erzielen\,\nworauf es in der praktischen Umsetzung wirklich ankommt\,\nwie Sie die Behandlung optimal in Ihr Studio integrieren\,\nwelche Homecare-Empfehlungen die Ergebnisse verlängern.\n\nEin kompaktes\, praxisnahes Webinar mit direktem Einblick in eine professionelle Behandlung – ideal\, um neue Protokolle sicher in Ihre Arbeit zu integrieren. \nFür wen ist das Webinar geeignet?Für professionelle Kosmetiker:innen\, die moderne Anti-Aging-Behandlungen mit sichtbarem Glow erlernen und direkt in der Praxis umsetzen möchten.
URL:https://renew-kosmetik.de/event/webinar-rabota-s-anti-aging-glow-13-05
CATEGORIES:Webinar
ATTACH;FMTTYPE=image/png:https://renew-kosmetik.de/wp-content/uploads/2025/12/Gemini_Generated_Image_r5k9kjr5k9kjr5k9.png
END:VEVENT
BEGIN:VEVENT
DTSTART;TZID=Europe/Berlin:20260518T110000
DTEND;TZID=Europe/Berlin:20260518T120000
DTSTAMP:20260423T191634
CREATED:20260407T141450Z
LAST-MODIFIED:20260407T141611Z
UID:32305-1779102000-1779105600@renew-kosmetik.de
SUMMARY:Die 5 häufigsten Fehler bei der Couperose-Behandlung: Und wie Sie sie vermeiden (18.05)
DESCRIPTION:Die 5 häufigsten Fehler bei der Couperose-Behandlung: Und wie Sie sie vermeiden\n\n\n\nKostenloses Online-Webinar \nRötungen\, sichtbare Äderchen und empfindliche Haut sind für viele Kundinnen eine tägliche Belastung. \n\n\n\nDoch oft liegt das Problem nicht nur an der Haut selbst – sondern an Behandlungsfehlern\, die die Couperose unbewusst verstärken.Wenn Sie die Ursachen verstehen und typische Fehler vermeiden\, können Sie die Haut deutlich beruhigen\, stärken und langfristig verbessern – ohne aggressive Methoden.In diesem Webinar zeigen wir Ihnen: \n\nwelche Prozesse hinter Couperose stecken und warum die Haut so sensibel reagiert\ndie 5 häufigsten Fehler in der Behandlung – und warum sie die Situation verschlimmern\nwie Sie die Haut gezielt beruhigen und die Gefäße stabilisieren\nwelche Wirkstoffe und Behandlungsschritte wirklich sinnvoll sind\neffektive\, schonende Behandlungsprotokolle für sichtbare Ergebnisse\nwie Sie Ihre Kundinnen langfristig begleiten und Vertrauen aufbauen\n\nSie erhalten praxisnahes Wissen\, klare Strukturen und direkt umsetzbare Lösungen für Ihren Studioalltag. \nFür wen ist das Webinar geeignet?Für Kosmetikerinnen\, die Couperose-Haut sicher behandeln möchten und ihren Kundinnen sichtbare\, nachhaltige Ergebnisse bieten wollen – mit modernen\, nicht-invasiven Methoden.
URL:https://renew-kosmetik.de/event/webinar-die-5-haeufigsten-fehler-bei-der-couperose-behandlung-und-wie-sie-sie-vermeiden-18-05-26
CATEGORIES:Webinar
ATTACH;FMTTYPE=image/png:https://renew-kosmetik.de/wp-content/uploads/2026/04/Nurnberg-2026-04-07T161212.992.png
END:VEVENT
END:VCALENDAR