BEGIN:VCALENDAR
VERSION:2.0
PRODID:-//Renew Kosmetik - ECPv6.15.20//NONSGML v1.0//EN
CALSCALE:GREGORIAN
METHOD:PUBLISH
X-WR-CALNAME:Renew Kosmetik
X-ORIGINAL-URL:https://renew-kosmetik.de
X-WR-CALDESC:Veranstaltungen für Renew Kosmetik
REFRESH-INTERVAL;VALUE=DURATION:PT1H
X-Robots-Tag:noindex
X-PUBLISHED-TTL:PT1H
BEGIN:VTIMEZONE
TZID:Europe/Berlin
BEGIN:DAYLIGHT
TZOFFSETFROM:+0100
TZOFFSETTO:+0200
TZNAME:CEST
DTSTART:20240331T010000
END:DAYLIGHT
BEGIN:STANDARD
TZOFFSETFROM:+0200
TZOFFSETTO:+0100
TZNAME:CET
DTSTART:20241027T010000
END:STANDARD
BEGIN:DAYLIGHT
TZOFFSETFROM:+0100
TZOFFSETTO:+0200
TZNAME:CEST
DTSTART:20250330T010000
END:DAYLIGHT
BEGIN:STANDARD
TZOFFSETFROM:+0200
TZOFFSETTO:+0100
TZNAME:CET
DTSTART:20251026T010000
END:STANDARD
BEGIN:DAYLIGHT
TZOFFSETFROM:+0100
TZOFFSETTO:+0200
TZNAME:CEST
DTSTART:20260329T010000
END:DAYLIGHT
BEGIN:STANDARD
TZOFFSETFROM:+0200
TZOFFSETTO:+0100
TZNAME:CET
DTSTART:20261025T010000
END:STANDARD
BEGIN:DAYLIGHT
TZOFFSETFROM:+0100
TZOFFSETTO:+0200
TZNAME:CEST
DTSTART:20270328T010000
END:DAYLIGHT
BEGIN:STANDARD
TZOFFSETFROM:+0200
TZOFFSETTO:+0100
TZNAME:CET
DTSTART:20271031T010000
END:STANDARD
END:VTIMEZONE
BEGIN:VEVENT
DTSTART;TZID=Europe/Berlin:20260415T110000
DTEND;TZID=Europe/Berlin:20260415T120000
DTSTAMP:20260423T173533
CREATED:20251205T172855Z
LAST-MODIFIED:20260325T110247Z
UID:30615-1776250800-1776254400@renew-kosmetik.de
SUMMARY:Warum Ihre Anti-Age Behandlungen nicht wirken: 5 Fehler\, die jede Kosmetikerin macht (15.04)
DESCRIPTION:„Warum Ihre Anti-Age Behandlungen nicht wirken: 5 Fehler\, die jede Kosmetikerin macht“ \nKostenloses Online-Webinar \nFältchen\, Elastizitätsverlust oder ein fahler Teint entstehen oft nicht nur durch das Alter.Ein entscheidender Faktor sind sogenannte „stille Entzündungen“ in der Haut – unsichtbar\, aber mit großer Wirkung. \nWenn Sie diese Prozesse gezielt berücksichtigen\, können Sie mit Ihren Behandlungen deutlich bessere und nachhaltigere Ergebnisse erzielen – ganz ohne Injektionen. \nIn diesem Webinar zeigen wir Ihnen: \n\nwas hinter „stillen Entzündungen“ steckt und wie sie die Hautalterung beschleunigen\nwelche typischen Fehler in Anti-Aging-Behandlungen die Haut zusätzlich belasten\nwie Sie die Haut gezielt beruhigen\, stärken und regenerieren\neffektive Behandlungsabläufe für mehr Straffheit\, Frische und Ausstrahlung\nwie Sie Ihre Kundinnen sicher und erfolgreich langfristig begleiten\n\nSie erhalten praxisnahes Wissen\, klare Behandlungsschritte und direkt umsetzbare Lösungen für Ihren Studioalltag. \nFür wen ist das Webinar geeignet?Für Kosmetikerinnen\, die ihre Anti-Aging-Behandlungen verbessern und mit modernen\, nicht-invasiven Methoden sichtbare Ergebnisse erzielen möchten.
URL:https://renew-kosmetik.de/event/webinar-anti-aging-ohne-nadeln-sichtbar-straffere-und-gesuendere-haut-15-04-26
CATEGORIES:Webinar
ATTACH;FMTTYPE=image/png:https://renew-kosmetik.de/wp-content/uploads/2025/12/Nurnberg-90-2.png
END:VEVENT
BEGIN:VEVENT
DTSTART;TZID=Europe/Berlin:20260408T110000
DTEND;TZID=Europe/Berlin:20260408T120000
DTSTAMP:20260423T173533
CREATED:20251205T183551Z
LAST-MODIFIED:20260403T180312Z
UID:30628-1775646000-1775649600@renew-kosmetik.de
SUMMARY:RENEW 5 Fragen der Kosmetikerinnen (08.04)
DESCRIPTION:RENEW 5 Fragen der Kosmetikerinnen \nExperten-Analyse Ihrer Fälle mit Inara Dadasheva \nWir laden professionelle Kosmetiker:innen zu einem neuen\, praxisorientierten Format ein — Jede Ausgabe widmet sich echten Fällen aus dem Studioalltag\, die Sie uns im Voraus zusenden. \nDas ist keine Theorie\, sondern die Arbeit mit realen\, unverfälschten Situationen\, wie sie täglich in der Kabine passieren. \nTeilnehmer:innen können ihren eigenen Fall einreichen\, ein Protokoll vorstellen\, ein Problem schildern oder ein Ergebnis zeigen — und erhalten eine ehrliche\, fachlich fundierte und nachvollziehbare Analyse von Inara Dadasheva.Jeder Live-Termin hat ein neues Schwerpunktthema\, das sich direkt aus Ihren aktuellen Fragen ergibt. \nWas erwartet Sie? \n\nAnalyse echter Fälle aus der Praxis. Typische Fehler\, wichtige Details\, Protokoll-Anpassungen und konkrete Empfehlungen für Ihren Arbeitsalltag.\nSchritt-für-Schritt-Empfehlungen zur Ergebnisoptimierung. Was lässt sich verstärken\, verändern oder besser komplett weglassen?\nDie Möglichkeit\, fachliches Feedback zu Ihrem eigenen Fall zu erhalten. Individuelle Einschätzung im Live-Format — selten und extrem wertvoll.\nPraktischer Nutzen für alle Teilnehmer:innen. Auch ohne eigenen Fall profitieren Sie von den ausführlichen Analysen zahlreicher Situationen\, die jeder Profi aus der täglichen Arbeit kennt.\n\nFormat & Zugang \n\nDer Zugang wird ausschließlich registrierten Teilnehmer:innen freigeschaltet.\nDie Aufzeichnung bleibt 48 Stunden verfügbar\, danach wird sie geschlossen.
URL:https://renew-kosmetik.de/event/webinar-praktikum-hotline-08-04
CATEGORIES:Webinar
ATTACH;FMTTYPE=image/png:https://renew-kosmetik.de/wp-content/uploads/2025/12/Nurnberg-2025-12-09T172106.410.png
END:VEVENT
BEGIN:VEVENT
DTSTART;TZID=Europe/Berlin:20260318T110000
DTEND;TZID=Europe/Berlin:20260318T120000
DTSTAMP:20260423T173533
CREATED:20251205T173722Z
LAST-MODIFIED:20260210T093020Z
UID:30618-1773831600-1773835200@renew-kosmetik.de
SUMMARY:Vitamin C & Whitening – Glow-Protokolle in Echtzeit (18.03)
DESCRIPTION:Online-Praktikum: Glow-Protokolle mit Vitamin C & Whitening – Live am Modell Die perfekte Synergie aus Barriere-Stärkung\, leichtem Anti-Aging und effektiver Aufhellung. \nErleben Sie Wirkstoffkosmetik in Aktion. Theorie ist wichtig\, aber die Praxis ist entscheidend. In diesem exklusiven Online-Praktikum nehmen wir Sie mit in die Kabine. Wir zeigen Ihnen\, wie Sie mit der intelligenten Kombination aus Vitamin C und der Whitening-Serie von Renew beeindruckende Ergebnisse erzielen\, ohne die Hautbarriere zu belasten. \n  \nWas wir Ihnen zeigen: \n\nLive-Demonstration: Ein komplettes Treatment von der Reinigung bis zum Finish – Schritt für Schritt erklärt.\nWirkstoff-Fokus: Warum Vitamin C der Schlüssel zur Gefäßstärkung und Barriere-Regeneration ist.\nWhitening-Strategie: Wie Sie Pigmentverschiebungen und Post-Akne-Flecken sanft\, aber hocheffektiv behandeln.\nHaut-Reaktion: Beobachten Sie die unmittelbare Veränderung des Hautbildes während der Behandlung.\nTextur-Check: Alles über Haptik\, Einziehverhalten und die richtige Schichtung (Layering) der Produkte.\n\nSie erhalten klare Leitlinien\, praxisnahe Behandlungsschemata und Wirkstoff-Kombinationen\, die sich in der Studio-Praxis bewährt haben. \nFür wen ist der Webinar geeignet? \nFür professionelle Kosmetiker:innen\, die sowohl im Anti-Aging als auch in der Pigmentkorrektur stärker wirkende\, wissenschaftlich fundierte Protokolle anbieten möchten.
URL:https://renew-kosmetik.de/event/webinar-effektive-protokolle-fuer-anti-aging-und-hautaufhellung-18-03
CATEGORIES:Webinar
ATTACH;FMTTYPE=image/png:https://renew-kosmetik.de/wp-content/uploads/2025/12/Nurnberg-3.png
END:VEVENT
BEGIN:VEVENT
DTSTART;TZID=Europe/Berlin:20260305T110000
DTEND;TZID=Europe/Berlin:20260305T120000
DTSTAMP:20260423T173533
CREATED:20251205T172309Z
LAST-MODIFIED:20251205T172309Z
UID:30612-1772708400-1772712000@renew-kosmetik.de
SUMMARY:Hyperpigmentierung (Melasma/PIH)
DESCRIPTION:Hyperpigmentierung (Melasma/PIH): Wie Sie Fehler in Whitening-Protokollen unter der europäischen Sonne vermeiden \nKostenloser Online-Webinar \nHyperpigmentierung gehört zu den anspruchsvollsten Hautthemen – besonders in Europa\, wo UV-Belastung\, Reisen und wechselhafte Jahreszeiten die Behandlung erschweren. Falsch gewählte Protokolle\, zu aggressive Peelings oder unpassende Wirkstoffkombinationen können Melasma und postinflammatorische Hyperpigmentierung sogar verstärken. \n\nReferentin: Inara Dadasheva \n\nIn diesem kostenlosen Webinar erfahren Sie\, wie Sie: \n\nMelasma und PIH sicher voneinander unterscheiden\,\ntypische Behandlungsfehler in Aufhellungsprotokollen erkennen und vermeiden\,\ndie Haut optimal auf Whitening-Behandlungen vorbereiten\,\nRenew-Wirkstoffe korrekt einsetzen – sanft\, effektiv und lichtstabil\,\nKund:innen auch in der sonnenreichen Jahreszeit sicher begleiten\,\nRückfälle minimieren und langfristig gleichmäßige Ergebnisse erzielen.\n\nSie erhalten klare Leitlinien\, praktische Tipps und bewährte Kombinationsmöglichkeiten\, die in europäischen Bedingungen wirklich funktionieren. \nFür wen ist der Webinar geeignet?Für professionelle Kosmetiker:innen\, die mit Hyperpigmentierung arbeiten und ihren Kund:innen sichere\, nachhaltige und hautfreundliche Lösungen anbieten möchten.
URL:https://renew-kosmetik.de/event/webinar-hyperpigmentierung-melasma-pih-05-03
CATEGORIES:Webinar
ATTACH;FMTTYPE=image/png:https://renew-kosmetik.de/wp-content/uploads/2025/12/Nurnberg-83-1.png
END:VEVENT
BEGIN:VEVENT
DTSTART;TZID=Europe/Berlin:20260302T110000
DTEND;TZID=Europe/Berlin:20260302T120000
DTSTAMP:20260423T173533
CREATED:20251203T212648Z
LAST-MODIFIED:20260130T130507Z
UID:30504-1772449200-1772452800@renew-kosmetik.de
SUMMARY:Praktikum Hotline + Вопрос-ответ (02.03)
DESCRIPTION:Praktikum Hotline + Вопрос-ответ \nЭкспертный разбор ваших кейсов с Инарой Дадашевой \nПриглашаем профессиональных косметологов на новый формат — Praktikum Hotline\, где каждый выпуск посвящён разбору реальных ситуаций из практики специалистов.Это не теория — это работа с живыми случаями\, которые вы присылаете заранее. \nУчастники получают возможность задать свой вопрос\, показать протокол\, описать проблему или результат — и получить честный\, профессиональный и аргументированный разбор от Инары Дадашевой.Каждый эфир — новая актуальная тема\, основанная на вопросах\, которые волнуют специалистов прямо сейчас. \nЧто вас ждёт? \n\nРазбор реальных кейсов от косметологов. Ошибки\, нюансы\, корректировки протоколов и рекомендации для практики.\nПошаговые рекомендации по улучшению результата. Что можно усилить\, изменить или исключить.\nВозможность получить экспертное мнение по вашему случаю. Индивидуальная обратная связь в прямом эфире — редкая и ценная возможность.\nПрактическая польза для каждого участника. Даже если вы не отправляете свой кейс\, вы получаете разборы десятков ситуаций\, которые встречаются в работе ежедневно.\n\nФормат и доступ \n\nДоступ получают только зарегистрированные участники.\nПросмотр открыт 48 часов\, затем доступ закрывается.\n\n  \nНиже пример того\, как проходит наш вебинар. \nhttps://www.youtube.com/watch?v=lEPSxg_pUG8&t=1147s \n 
URL:https://renew-kosmetik.de/event/webinar-praktikum-hotline-04-03-26
CATEGORIES:Webinar
ATTACH;FMTTYPE=image/png:https://renew-kosmetik.de/wp-content/uploads/2025/12/Nurnberg-2026-01-30T140425.331.png
END:VEVENT
BEGIN:VEVENT
DTSTART;TZID=Europe/Berlin:20260218T110000
DTEND;TZID=Europe/Berlin:20260218T120000
DTSTAMP:20260423T173533
CREATED:20251205T164830Z
LAST-MODIFIED:20260217T095036Z
UID:30608-1771412400-1771416000@renew-kosmetik.de
SUMMARY:Praktikum Hotline + Q&A (18.02)
DESCRIPTION:Praktikum Hotline + Q&A \nExperten-Analyse Ihrer Fälle mit Inara Dadasheva \nWir laden professionelle Kosmetiker:innen zu einem neuen\, praxisorientierten Format ein — der Praktikum Hotline.Jede Ausgabe widmet sich echten Fällen aus dem Studioalltag\, die Sie uns im Voraus zusenden. \nDas ist keine Theorie\, sondern die Arbeit mit realen\, unverfälschten Situationen\, wie sie täglich in der Kabine passieren. \nTeilnehmer:innen können ihren eigenen Fall einreichen\, ein Protokoll vorstellen\, ein Problem schildern oder ein Ergebnis zeigen — und erhalten eine ehrliche\, fachlich fundierte und nachvollziehbare Analyse von Inara Dadasheva.Jeder Live-Termin hat ein neues Schwerpunktthema\, das sich direkt aus Ihren aktuellen Fragen ergibt. \nWas erwartet Sie? \n\nAnalyse echter Fälle aus der Praxis. Typische Fehler\, wichtige Details\, Protokoll-Anpassungen und konkrete Empfehlungen für Ihren Arbeitsalltag.\nSchritt-für-Schritt-Empfehlungen zur Ergebnisoptimierung. Was lässt sich verstärken\, verändern oder besser komplett weglassen?\nDie Möglichkeit\, fachliches Feedback zu Ihrem eigenen Fall zu erhalten. Individuelle Einschätzung im Live-Format — selten und extrem wertvoll.\nPraktischer Nutzen für alle Teilnehmer:innen. Auch ohne eigenen Fall profitieren Sie von den ausführlichen Analysen zahlreicher Situationen\, die jeder Profi aus der täglichen Arbeit kennt.\n\nFormat & Zugang \n\nDer Zugang wird ausschließlich registrierten Teilnehmer:innen freigeschaltet.\nDie Aufzeichnung bleibt 48 Stunden verfügbar\, danach wird sie geschlossen.
URL:https://renew-kosmetik.de/event/praktikum-hotline-qa-18-02
CATEGORIES:Webinar
ATTACH;FMTTYPE=image/png:https://renew-kosmetik.de/wp-content/uploads/2025/12/Nurnberg-4.png
END:VEVENT
BEGIN:VEVENT
DTSTART;TZID=Europe/Berlin:20260211T110000
DTEND;TZID=Europe/Berlin:20260211T120000
DTSTAMP:20260423T173533
CREATED:20251204T110024Z
LAST-MODIFIED:20251217T180808Z
UID:30544-1770807600-1770811200@renew-kosmetik.de
SUMMARY:Akne cosmetica & periorale Dermatitis (11.02)
DESCRIPTION:Akne cosmetica & periorale Dermatitis: Wie Sie die Hautbarriere wiederherstellen und entzündliche Reaktionen durch Überpflege kontrollieren?\nKostenloser Online-Webinar \nAcne cosmetica und periorale Dermatitis sind typische Folgen von Überpflege\, falschen Wirkstoffkombinationen und einem dauerhaft geschwächten Hautbarrieresystem. Besonders im europäischen Praxisalltag sehen Kosmetiker:innen immer häufiger Kund:innen mit chronischer Reizung\, Mikroentzündungen und therapieresistenten Hautzuständen. \nGut gemeinte Pflege kann in diesen Fällen mehr schaden als helfen. Entscheidend ist nicht „mehr Wirkstoffe“\, sondern die richtige Strategie zur Beruhigung\, Reparatur und Stabilisierung der Haut. \n\nReferentin: Inara Dadasheva \n\nIn diesem kostenlosen Webinar erfahren Sie\, wie Sie: \n\n\nAcne cosmetica sicher von klassischer Akne und perioraler Dermatitis unterscheiden\, \n\n\nÜberpflege als Ursache erkennen und korrekt kommunizieren\, \n\n\nentzündliche Prozesse gezielt beruhigen\, ohne die Haut weiter zu destabilisieren\, \n\n\ndie Hautbarriere schrittweise und nachhaltig wieder aufbauen\, \n\n\nRenew-Wirkstoffe sinnvoll einsetzen – minimalistisch\, hautfreundlich und wirksam\, \n\n\nBehandlungs- und Heimpflegeprotokolle neu strukturieren\, um Rückfälle zu vermeiden. \n\n\nSie erhalten klare Handlungsleitlinien\, praxisnahe Empfehlungen und bewährte Protokollansätze\, die sich im Studioalltag bewährt haben und unter europäischen Bedingungen zuverlässig funktionieren. \n\nFür wen ist dieses Webinar geeignet? \nFür professionelle Kosmetiker:innen\, die mit sensibler\, überpflegter und entzündlich reagierender Haut arbeiten und ihren Kund:innen sichere\, nachhaltige und barriereschonende Lösungen anbieten möchten. \n 
URL:https://renew-kosmetik.de/event/webinar-acne-cosmetica-und-periorale-dermatitis-11-02-26
CATEGORIES:Webinar
ATTACH;FMTTYPE=image/png:https://renew-kosmetik.de/wp-content/uploads/2025/12/Nurnberg-2025-12-17T190723.882.png
END:VEVENT
BEGIN:VEVENT
DTSTART;TZID=Europe/Berlin:20260202T110000
DTEND;TZID=Europe/Berlin:20260202T120000
DTSTAMP:20260423T173534
CREATED:20251203T212322Z
LAST-MODIFIED:20251209T161136Z
UID:30501-1770030000-1770033600@renew-kosmetik.de
SUMMARY:Praktikum Hotline + Вопрос-ответ (02.02)
DESCRIPTION:Praktikum Hotline + Вопрос-ответ \nЭкспертный разбор ваших кейсов с Инарой Дадашевой \nПриглашаем профессиональных косметологов на новый формат — Praktikum Hotline\, где каждый выпуск посвящён разбору реальных ситуаций из практики специалистов.Это не теория — это работа с живыми случаями\, которые вы присылаете заранее. \nУчастники получают возможность задать свой вопрос\, показать протокол\, описать проблему или результат — и получить честный\, профессиональный и аргументированный разбор от Инары Дадашевой.Каждый эфир — новая актуальная тема\, основанная на вопросах\, которые волнуют специалистов прямо сейчас. \nЧто вас ждёт? \n\nРазбор реальных кейсов от косметологов. Ошибки\, нюансы\, корректировки протоколов и рекомендации для практики.\nПошаговые рекомендации по улучшению результата. Что можно усилить\, изменить или исключить.\nВозможность получить экспертное мнение по вашему случаю. Индивидуальная обратная связь в прямом эфире — редкая и ценная возможность.\nПрактическая польза для каждого участника. Даже если вы не отправляете свой кейс\, вы получаете разборы десятков ситуаций\, которые встречаются в работе ежедневно.\n\nФормат и доступ \n\nДоступ получают только зарегистрированные участники.\nПросмотр открыт 48 часов\, затем доступ закрывается.\n\n  \nНиже пример того\, как проходит наш вебинар. \nhttps://www.youtube.com/watch?v=lEPSxg_pUG8&t=1147s \n 
URL:https://renew-kosmetik.de/event/webinar-praktikum-hotline-02-02-26
CATEGORIES:Webinar
ATTACH;FMTTYPE=image/png:https://renew-kosmetik.de/wp-content/uploads/2025/12/Nurnberg-2025-12-09T165235.931.png
END:VEVENT
BEGIN:VEVENT
DTSTART;TZID=Europe/Berlin:20260108T110000
DTEND;TZID=Europe/Berlin:20260108T120000
DTSTAMP:20260423T173534
CREATED:20251203T210923Z
LAST-MODIFIED:20251209T160957Z
UID:30495-1767870000-1767873600@renew-kosmetik.de
SUMMARY:Praktikum Hotline +  Вопрос-ответ  (08.01)
DESCRIPTION:Praktikum Hotline + Вопрос-ответ \nЭкспертный разбор ваших кейсов с Инарой Дадашевой \nПриглашаем профессиональных косметологов на новый формат — Praktikum Hotline\, где каждый выпуск посвящён разбору реальных ситуаций из практики специалистов.Это не теория — это работа с живыми случаями\, которые вы присылаете заранее. \nУчастники получают возможность задать свой вопрос\, показать протокол\, описать проблему или результат — и получить честный\, профессиональный и аргументированный разбор от Инары Дадашевой.Каждый эфир — новая актуальная тема\, основанная на вопросах\, которые волнуют специалистов прямо сейчас. \nЧто вас ждёт? \n\nРазбор реальных кейсов от косметологов. Ошибки\, нюансы\, корректировки протоколов и рекомендации для практики.\nПошаговые рекомендации по улучшению результата. Что можно усилить\, изменить или исключить.\nВозможность получить экспертное мнение по вашему случаю. Индивидуальная обратная связь в прямом эфире — редкая и ценная возможность.\nПрактическая польза для каждого участника. Даже если вы не отправляете свой кейс\, вы получаете разборы десятков ситуаций\, которые встречаются в работе ежедневно.\n\nФормат и доступ \n\nДоступ получают только зарегистрированные участники.\nПросмотр открыт 48 часов\, затем доступ закрывается.\n\n  \nНиже пример того\, как проходит наш вебинар. \nhttps://www.youtube.com/watch?v=lEPSxg_pUG8&t=1147s \n  \n 
URL:https://renew-kosmetik.de/event/webinar-praktikum-hotline-08-01-26
LOCATION:online
CATEGORIES:Webinar
ATTACH;FMTTYPE=image/png:https://renew-kosmetik.de/wp-content/uploads/2025/12/Nurnberg-2025-12-09T164500.946.png
END:VEVENT
BEGIN:VEVENT
DTSTART;TZID=Europe/Berlin:20250917T080000
DTEND;TZID=Europe/Berlin:20250917T170000
DTSTAMP:20260423T173534
CREATED:20250829T165342Z
LAST-MODIFIED:20251003T163304Z
UID:27737-1758096000-1758128400@renew-kosmetik.de
SUMMARY:Вебинар „Купероз\, розацеа“
DESCRIPTION:Вы эксперт в сфере красоты???? и ежедневно сталкиваетесь с проблемами купероза и розацеа у ваших клиентов? \nПриглашаем вас на вебинар от Renew Cosmetics\, где мы поделимся с вами ключевыми знаниями и практиками! \nНа семинаре вы получите: \n\nГлубокие знания по дифференциальной диагностике купероза и розацеи;\n Проверенные протоколы лечения розацеи и купероза;\n Обзор космецевтических средств для профессионального и домашнего ухода.\n\nУсильте свой профессиональный арсенал и предложите своим клиентам решения\, которые действительно работают! \nМеста ограничены\, регистрируйтесь прямо сейчас!
URL:https://renew-kosmetik.de/event/%d0%b2%d0%b5%d0%b1%d0%b8%d0%bd%d0%b0%d1%80-%d0%ba%d1%83%d0%bf%d0%b5%d1%80%d0%be%d0%b7-%d1%80%d0%be%d0%b7%d0%b0%d1%86%d0%b5%d0%b0
CATEGORIES:Webinar
ATTACH;FMTTYPE=image/png:https://renew-kosmetik.de/wp-content/uploads/2025/08/Nuernberg-19.png
END:VEVENT
END:VCALENDAR