BEGIN:VCALENDAR
VERSION:2.0
PRODID:-//Renew Kosmetik - ECPv6.15.20//NONSGML v1.0//EN
CALSCALE:GREGORIAN
METHOD:PUBLISH
X-WR-CALNAME:Renew Kosmetik
X-ORIGINAL-URL:https://renew-kosmetik.de
X-WR-CALDESC:Veranstaltungen für Renew Kosmetik
REFRESH-INTERVAL;VALUE=DURATION:PT1H
X-Robots-Tag:noindex
X-PUBLISHED-TTL:PT1H
BEGIN:VTIMEZONE
TZID:Europe/Berlin
BEGIN:DAYLIGHT
TZOFFSETFROM:+0100
TZOFFSETTO:+0200
TZNAME:CEST
DTSTART:20240331T010000
END:DAYLIGHT
BEGIN:STANDARD
TZOFFSETFROM:+0200
TZOFFSETTO:+0100
TZNAME:CET
DTSTART:20241027T010000
END:STANDARD
BEGIN:DAYLIGHT
TZOFFSETFROM:+0100
TZOFFSETTO:+0200
TZNAME:CEST
DTSTART:20250330T010000
END:DAYLIGHT
BEGIN:STANDARD
TZOFFSETFROM:+0200
TZOFFSETTO:+0100
TZNAME:CET
DTSTART:20251026T010000
END:STANDARD
BEGIN:DAYLIGHT
TZOFFSETFROM:+0100
TZOFFSETTO:+0200
TZNAME:CEST
DTSTART:20260329T010000
END:DAYLIGHT
BEGIN:STANDARD
TZOFFSETFROM:+0200
TZOFFSETTO:+0100
TZNAME:CET
DTSTART:20261025T010000
END:STANDARD
END:VTIMEZONE
BEGIN:VEVENT
DTSTART;TZID=Europe/Berlin:20251025T100000
DTEND;TZID=Europe/Berlin:20251025T180000
DTSTAMP:20260425T164213
CREATED:20250829T174802Z
LAST-MODIFIED:20251002T193902Z
UID:27774-1761386400-1761415200@renew-kosmetik.de
SUMMARY:Renew Beauty Conference 2025
DESCRIPTION:Главное событие осени 2025 для профессионалов индустрии красоты \nПрограмма мероприятия \n10:00 – 10:30 \nРегистрация участников и welcome-фуршет\nНачните день в атмосфере красоты и профессионального комьюнити.\nВас ждут изысканные угощения\, знакомства с коллегами и welcome-зона от бренда Renew. \n10:30 – 13:30 \nОфициальное открытие \nВыступление собственницы бренда Renew Cosmetics и главного методиста — Инары Дадашевой. \nБлок 1 \nТема: Безоперационные лифтинг-методики: когда косметология — это больше\, чем уход \n Ольга Андриенко — приглашённый гость\, врач\, специалист по физиологии кожи: \n\nФизиология старения: что происходит с кожей\, подкожной клетчаткой и мышцами\nПочему лифтинг — это про глубинную работу\, а не просто натяжение\nНа каких уровнях действительно можно добиться эффекта\nКак отличить «рабочую» космецевтику от просто ухода\nПочему косметолог способен достигать устойчивого anti-age результата без инъекций\n\n Инара Дадашева — Renew Cosmetics: \n\nАктивные компоненты лифтинг-косметики с медицинской точки зрения\nКак работают пептиды\, факторы роста\, ретиноиды и ферментные комплексы\nЭффективные протоколы с продуктами Renew:\n\nPRO Carboxy\nBioenzyme Therapie\nBioRepair PRO\n\n\n\n Ольга Андриенко – Практическая часть (проведение процедуры) \n13:30 – 14:30 \nОбед и нетворкинг\nОбменивайтесь впечатлениями\, делитесь кейсами и знакомьтесь с профессионалами из разных городов. \n14:30 – 16:00 \nБлок 2 \nТема:WOW-сервис как стратегия роста \n\nСпикер: Инара Дадашева \nВ программе: \n\nЧто на самом деле означает WOW-эффект для клиента\nПочему удержание важнее\, чем постоянный поиск новых\nКак продуманный клиентский путь влияет на продажи\n\nПрактические инструменты: \n\nКарта пути клиента\nWOW-сценарии на каждом этапе — до\, во время и после визита\nКак добавить эмоцию\, чтобы клиент вернулся\nСкрипты\, идеи welcome-сервисов\, follow-up\, подарков\, мини-обратной связи\nПримеры работающих решений из реальной практики\n\n Цель: не просто «понравилось»\, а превзошло ожидания — и превратилось в рекомендации\, лояльность и рост прибыли. \n16:00 – 16:30 \nРозыгрыш подарков и итоги конкурса в соцсетях\nПриятные сюрпризы и благодарность за вовлечённость. \n16:30 – 18:00 \nЗакрытие мероприятия и farewell-cocktail\nНеформальная часть\, где создаются самые крепкие профессиональные связи.\nВас ждёт фуршет\, расслабляющая атмосфера и тёплое завершение насыщенного дня. \nПочему стоит быть на Renew Beauty Conference 2025? \n– Только живая практика и научный подход\n– Ответы на реальные вопросы косметологов\n– Новейшие протоколы Renew и подходы в anti-age работе\n– Профессиональное сообщество\, нетворкинг\, подарки\n– Один день — максимум пользы и вдохновения \n\nДресс-код: Бело-серебристый (White-Silver Style)  \n\nКоличество мест ограничено.\nЗарегистрируйтесь сейчас — и станьте частью сообщества\, которое двигает индустрию вперёд.
URL:https://renew-kosmetik.de/event/renew-beauty-conference-2025
LOCATION:Frauentorgraben 11\, 90443 Nürnberg\, Frauentorgraben 11\, 90443\, Nürnberg\, Germany
CATEGORIES:Conference
ATTACH;FMTTYPE=image/jpeg:https://renew-kosmetik.de/wp-content/uploads/2025/08/Дизайн-без-названия-23.jpg
END:VEVENT
BEGIN:VEVENT
DTSTART;TZID=Europe/Berlin:20251008T100000
DTEND;TZID=Europe/Berlin:20251008T150000
DTSTAMP:20260425T164213
CREATED:20250829T174619Z
LAST-MODIFIED:20250926T083518Z
UID:27772-1759917600-1759935600@renew-kosmetik.de
SUMMARY:Produktschulung: Peelings\, Fruchtsäuren und Retinol (08.10)
DESCRIPTION:Weiterbildungsseminar für Kosmetikerinnen von Renew Cosmetics! ✨ \nIhre Kundinnen erwarten heute mehr: sichtbare Ergebnisse schon nach der ersten Behandlung und innovative Pflegekonzepte.\n Sind Sie bereit\, Ihr Institut auf das nächste Level zu bringen? \n Im Seminar „Oberflächlichhe und tiefe Fruchtsäuren und Retinol“ von Renew Cosmetics erfahren Sie\, wie Sie: \n\nIhr Behandlungsangebot erweitern und neue Kundinnen gewinnen\, \nbestehende Kundinnen begeistern und langfristig binden\, \nsofort anwendbare Methoden erlernen\, die Ihre Einnahmen steigern. \n\nProgram-Highlights:\nDetaillierte Klassifizierung von Säuren\nWirkungen & Unterschiede von Retinol und Säuren\nSynergie-Effekte und Retinierungsprogramme\nVorbereitung & Regeneration nach Peelings\nEffektive Strategien gegen Akne\, Anti Aging\, Hyperpigmentation\, Couperose und Narben \nErstellung professioneller Behandlungsprotokolle \nProfitieren Sie vom Know-how führender Experten und bringen Sie die Qualität Ihrer Behandlungen auf ein neues Niveau. \nAchtung: Dies ist das letzte kostenlose Seminar von Renew Cosmetics – verpassen Sie diese Chance nicht! \n Melden Sie sich jetzt an und sichern Sie sich Ihren Platz!
URL:https://renew-kosmetik.de/event/seminar-produktschulung-peelings-fruchtsauren-und-retinol-8-10
LOCATION:RENEW Cosmetics Kopernikusstr. 18 | 90459 Nürnberg\, Kopernikusstr. 18\, Nürnberg\, Nürnberg\, 90459\, Germany
CATEGORIES:Seminar
ATTACH;FMTTYPE=image/png:https://renew-kosmetik.de/wp-content/uploads/2025/08/Nurnberg-59.png
END:VEVENT
BEGIN:VEVENT
DTSTART;TZID=Europe/Berlin:20251005T110000
DTEND;TZID=Europe/Berlin:20251005T160000
DTSTAMP:20260425T164213
CREATED:20250829T174453Z
LAST-MODIFIED:20250926T074741Z
UID:27768-1759662000-1759680000@renew-kosmetik.de
SUMMARY:Эффективные пилинги сезона: от обновления до глубокого восстановления (05.10)
DESCRIPTION:Долгожданный семинар от ведущей компании по повышению квалификаций косметологов – Renew Cosmetics Deutschland:\n«Эффективные пилинги сезона: от обновления до глубокого восстановления» \n  \nСпикер: Александра Осадча \n  \nСпециально к началу сезона мы подготовили для вас самую актуальную информацию\, которая позволит не только закрыть свободные окошки\, но и порадует ваших клиентов немедленными видимыми результатами! \nСпециально к началу сезона мы подготовили самую востребованную программу\, которая поможет вам:\n✨ закрыть свободные окошки\,\n✨ повысить средний чек\,\n✨ порадовать клиентов быстрыми и видимыми результатами. \nТеоретическая часть: \n\nКислоты и их свойства: от классификации до сочетаний\nРетинол и его роль в глубинных anti-age изменениях\nПрограммы ретинизации и восстановление кожи после лета\nЭффективные методики при акне\, возрастных изменениях\, пигментации\, куперозе\nГотовые протоколы с пошаговым применением\n\nПрактическая часть: \nПроведение новой процедуры „Карбокситерапия“ \n  \nРегистрация уже открыта. Количество мест ограничено!
URL:https://renew-kosmetik.de/event/effective-peelings-of-the-season-for-renewal
LOCATION:Paracelsus Heilpraktikerschule Stuttgart Calwer Str. 28 · 70173 Stuttgart\, Paracelsus Heilpraktikerschule Stuttgart Calwer Str. 28\, Stuttgart\, Stuttgart\, 70173\, Germany
CATEGORIES:Seminar
ATTACH;FMTTYPE=image/png:https://renew-kosmetik.de/wp-content/uploads/2025/08/Nuernberg-55.png
END:VEVENT
BEGIN:VEVENT
DTSTART;TZID=Europe/Berlin:20250928T100000
DTEND;TZID=Europe/Berlin:20250928T150000
DTSTAMP:20260425T164213
CREATED:20250829T174204Z
LAST-MODIFIED:20250922T135431Z
UID:27765-1759053600-1759071600@renew-kosmetik.de
SUMMARY:Эффективные пилинги сезона: от обновления до глубокого восстановления (28.09)
DESCRIPTION:Долгожданный семинар от ведущей компании по повышению квалификаций косметологов – Renew Cosmetics Deutschland:\n«Эффективные пилинги сезона: от обновления до глубокого восстановления» \n21 августа в 10:00\, Дортмунд \nСпециально к началу сезона мы подготовили для вас самую актуальную информацию\, которая позволит не только закрыть свободные окошки\, но и порадует ваших клиентов немедленными видимыми результатами! \nСпециально к началу сезона мы подготовили самую востребованную программу\, которая поможет вам:\n✨ закрыть свободные окошки\,\n✨ повысить средний чек\,\n✨ порадовать клиентов быстрыми и видимыми результатами. \nВ программе: \n\nКислоты и их свойства: от классификации до сочетаний\nРетинол и его роль в глубинных anti-age изменениях\nНовая карбокситерапия как дополнение к курсу\nБиоэнзимная процедура: инновация в уходе и восстановлении кожи\nПрограммы ретинизации и восстановление кожи после лета\nЭффективные методики при акне\, возрастных изменениях\, пигментации\, куперозе\nГотовые протоколы с пошаговым применением\n\nРегистрация уже открыта. Количество мест ограничено!
URL:https://renew-kosmetik.de/event/seinar-effektivnye-pilingi-sezona-ot-obnovleniya-do-glubokogo-vosstanovleniya-28-09
LOCATION:Paracelsus Heilpraktikerschule Podbielskistr. 11-19\, 30163 Hannover\, Paracelsus Heilpraktikerschule Podbielskistr. 11-19\, Hannover\, Hannover\, 30163\, Germany
CATEGORIES:Seminar
ATTACH;FMTTYPE=image/png:https://renew-kosmetik.de/wp-content/uploads/2025/08/Nuernberg-52.png
END:VEVENT
BEGIN:VEVENT
DTSTART;TZID=Europe/Berlin:20250927T100000
DTEND;TZID=Europe/Berlin:20250927T150000
DTSTAMP:20260425T164213
CREATED:20250829T173919Z
LAST-MODIFIED:20250922T135806Z
UID:27762-1758967200-1758985200@renew-kosmetik.de
SUMMARY:Seminar Effektive Peelings der Saison: Von Erneuerung bis zur tiefen Regeneration (27.09)
DESCRIPTION:Fortbildungsseminar für Kosmetikerinnen von Renew Cosmetics Deutschland \n„Effektive Peelings der Saison: Von Erneuerung bis zur tiefen Regeneration“. Der perfekte Start in die neue Saison! \n⠀ \nSeminarprogramm: \n✔️ Alles über Säuren – von Grundlagen bis zu effektiven Kombinationen \n✔️ Retinol und seine Wirkung auf tiefgreifende Anti-Aging-Prozesse \n✔️ Neu: Carboxytherapie als perfekte Ergänzung im Behandlungsplan \n✔️ Bioenzyme Therapy – Aufhellung &Regeneration durch Enzyme \n✔️ Säurekuraufbau nach dem Sommer \n✔️ Effektive Konzepte bei Akne\, Pigmentflecken\, Couperose und Anti-aging \n✔️ Sofort einsetzbare Protokolle – Schritt für Schritt erklärt \n⠀ \nDie Anmeldung läuft bereits – sichern Sie sich jetzt Ihren Platz\, die Teilnehmerzahl ist begrenzt!
URL:https://renew-kosmetik.de/event/seminar-effektive-peelings-der-saison-von-erneuerung-bis-zur-tiefen-regeneration-27-09
LOCATION:Paracelsus Heilpraktikerschule Podbielskistr. 11-19\, 30163 Hannover\, Paracelsus Heilpraktikerschule Podbielskistr. 11-19\, Hannover\, Hannover\, 30163\, Germany
CATEGORIES:Seminar
ATTACH;FMTTYPE=image/png:https://renew-kosmetik.de/wp-content/uploads/2025/08/Nuernberg-54.png
END:VEVENT
BEGIN:VEVENT
DTSTART;TZID=Europe/Berlin:20250921T080000
DTEND;TZID=Europe/Berlin:20250921T170000
DTSTAMP:20260425T164213
CREATED:20250829T173736Z
LAST-MODIFIED:20250920T075808Z
UID:27758-1758441600-1758474000@renew-kosmetik.de
SUMMARY:Эффективные пилинги сезона: от обновления до глубокого восстановления (21.09)
DESCRIPTION:Долгожданный семинар от ведущей компании по повышению квалификаций косметологов – Renew Cosmetics Deutschland:\n«Эффективные пилинги сезона: от обновления до глубокого восстановления» \nСпециально к началу сезона мы подготовили для вас самую актуальную информацию\, которая позволит не только закрыть свободные окошки\, но и порадует ваших клиентов немедленными видимыми результатами! \nСпециально к началу сезона мы подготовили самую востребованную программу\, которая поможет вам:\n✨ закрыть свободные окошки\,\n✨ повысить средний чек\,\n✨ порадовать клиентов быстрыми и видимыми результатами. \nВ программе: \n\nКислоты и их свойства: от классификации до сочетаний\nРетинол и его роль в глубинных anti-age изменениях\nНовая карбокситерапия как дополнение к курсу\nБиоэнзимная процедура: инновация в уходе и восстановлении кожи\nПрограммы ретинизации и восстановление кожи после лета\nЭффективные методики при акне\, возрастных изменениях\, пигментации\, куперозе\nГотовые протоколы с пошаговым применением\n\nРегистрация уже открыта. Количество мест ограничено!
URL:https://renew-kosmetik.de/event/effective-peelings-of-the-season-for-renewal-dortmund
LOCATION:Dortmund\, Paracelsus Heilpraktikerschule Hansastraße 7-11\, Dortmund\, 44137\, Germany
CATEGORIES:Seminar
ATTACH;FMTTYPE=image/png:https://renew-kosmetik.de/wp-content/uploads/2025/08/Nuernberg-51.png
END:VEVENT
BEGIN:VEVENT
DTSTART;TZID=Europe/Berlin:20250920T080000
DTEND;TZID=Europe/Berlin:20250920T170000
DTSTAMP:20260425T164213
CREATED:20250829T171432Z
LAST-MODIFIED:20250914T184625Z
UID:27741-1758355200-1758387600@renew-kosmetik.de
SUMMARY:Seminar Effektive Peelings der Saison: Von Erneuerung bis zur tiefen Regeneration
DESCRIPTION:Fortbildungsseminar für Kosmetikerinnen von Renew Cosmetics Deutschland \n„Effektive Peelings der Saison: Von Erneuerung bis zur tiefen Regeneration“. Der perfekte Start in die neue Saison! \n⠀ \nSeminarprogramm: \n✔️ Alles über Säuren – von Grundlagen bis zu effektiven Kombinationen \n✔️ Retinol und seine Wirkung auf tiefgreifende Anti-Aging-Prozesse \n✔️ Neu: Carboxytherapie als perfekte Ergänzung im Behandlungsplan \n✔️ Bioenzyme Therapy – Aufhellung &Regeneration durch Enzyme \n✔️ Säurekuraufbau nach dem Sommer \n✔️ Effektive Konzepte bei Akne\, Pigmentflecken\, Couperose und Anti-aging \n✔️ Sofort einsetzbare Protokolle – Schritt für Schritt erklärt \n⠀ \nDie Anmeldung läuft bereits – sichern Sie sich jetzt Ihren Platz\, die Teilnehmerzahl ist begrenzt!
URL:https://renew-kosmetik.de/event/seminar-effektive-peelings-der-saison-von-erneuerung-bis-zur-tiefen-regeneration
LOCATION:Dortmund\, Paracelsus Heilpraktikerschule Hansastraße 7-11\, Dortmund\, 44137\, Germany
CATEGORIES:Seminar
ATTACH;FMTTYPE=image/png:https://renew-kosmetik.de/wp-content/uploads/2025/08/Nuernberg-53.png
END:VEVENT
BEGIN:VEVENT
DTSTART;TZID=Europe/Berlin:20250917T080000
DTEND;TZID=Europe/Berlin:20250917T170000
DTSTAMP:20260425T164213
CREATED:20250829T165342Z
LAST-MODIFIED:20251003T163304Z
UID:27737-1758096000-1758128400@renew-kosmetik.de
SUMMARY:Вебинар „Купероз\, розацеа“
DESCRIPTION:Вы эксперт в сфере красоты???? и ежедневно сталкиваетесь с проблемами купероза и розацеа у ваших клиентов? \nПриглашаем вас на вебинар от Renew Cosmetics\, где мы поделимся с вами ключевыми знаниями и практиками! \nНа семинаре вы получите: \n\nГлубокие знания по дифференциальной диагностике купероза и розацеи;\n Проверенные протоколы лечения розацеи и купероза;\n Обзор космецевтических средств для профессионального и домашнего ухода.\n\nУсильте свой профессиональный арсенал и предложите своим клиентам решения\, которые действительно работают! \nМеста ограничены\, регистрируйтесь прямо сейчас!
URL:https://renew-kosmetik.de/event/%d0%b2%d0%b5%d0%b1%d0%b8%d0%bd%d0%b0%d1%80-%d0%ba%d1%83%d0%bf%d0%b5%d1%80%d0%be%d0%b7-%d1%80%d0%be%d0%b7%d0%b0%d1%86%d0%b5%d0%b0
CATEGORIES:Webinar
ATTACH;FMTTYPE=image/png:https://renew-kosmetik.de/wp-content/uploads/2025/08/Nuernberg-19.png
END:VEVENT
END:VCALENDAR