BEGIN:VCALENDAR
VERSION:2.0
PRODID:-//Renew Kosmetik - ECPv6.15.20//NONSGML v1.0//EN
CALSCALE:GREGORIAN
METHOD:PUBLISH
X-WR-CALNAME:Renew Kosmetik
X-ORIGINAL-URL:https://renew-kosmetik.de
X-WR-CALDESC:Veranstaltungen für Renew Kosmetik
REFRESH-INTERVAL;VALUE=DURATION:PT1H
X-Robots-Tag:noindex
X-PUBLISHED-TTL:PT1H
BEGIN:VTIMEZONE
TZID:Europe/Berlin
BEGIN:DAYLIGHT
TZOFFSETFROM:+0100
TZOFFSETTO:+0200
TZNAME:CEST
DTSTART:20250330T010000
END:DAYLIGHT
BEGIN:STANDARD
TZOFFSETFROM:+0200
TZOFFSETTO:+0100
TZNAME:CET
DTSTART:20251026T010000
END:STANDARD
BEGIN:DAYLIGHT
TZOFFSETFROM:+0100
TZOFFSETTO:+0200
TZNAME:CEST
DTSTART:20260329T010000
END:DAYLIGHT
BEGIN:STANDARD
TZOFFSETFROM:+0200
TZOFFSETTO:+0100
TZNAME:CET
DTSTART:20261025T010000
END:STANDARD
BEGIN:DAYLIGHT
TZOFFSETFROM:+0100
TZOFFSETTO:+0200
TZNAME:CEST
DTSTART:20270328T010000
END:DAYLIGHT
BEGIN:STANDARD
TZOFFSETFROM:+0200
TZOFFSETTO:+0100
TZNAME:CET
DTSTART:20271031T010000
END:STANDARD
END:VTIMEZONE
BEGIN:VEVENT
DTSTART;TZID=Europe/Berlin:20261203T110000
DTEND;TZID=Europe/Berlin:20261203T120000
DTSTAMP:20260425T234721
CREATED:20260112T201842Z
LAST-MODIFIED:20260112T201842Z
UID:30993-1796295600-1796299200@renew-kosmetik.de
SUMMARY:Vitamin C & Whitening: Protokolle an der Schnittstelle von Anti-Aging und Aufhellung
DESCRIPTION:Vitamin C & Whitening: Protokolle an der Schnittstelle von Anti-Aging und Aufhellung \n\nDer Sommer – und auch die Übergangssaisons – sind eine echte Gratwanderung in der Kabine. Kund:innen wollen frische\, strahlende Haut\, weniger Pigmentflecken und gleichzeitig Anti-Aging-Effekte. Vitamin C scheint die perfekte Lösung zu sein – wenn man weiß\, wie man es richtig einsetzt.Falsch kombiniert oder unpassend dosiert kann es jedoch Reizungen\, Instabilität und enttäuschende Ergebnisse verursachen. \nDieses Webinar richtet sich an Kosmetiker:innen\, die Vitamin C und Whitening nicht getrennt\, sondern strategisch einsetzen möchten – sicher\, wirksam und nachvollziehbar für die Kund:innen. \nSie erhalten keine Lehrbuch-Theorie\, sondern klare Zusammenhänge\, Entscheidungslogiken und praxiserprobte Protokollansätze\, die im Studioalltag wirklich funktionieren. \nReferentin: Inara Dadasheva \nInternationale Trainerin der Marke Renew\, erfahrene Praktikerin mit klinischem Hintergrund. Sie zeigt\, wie man sichtbare Ergebnisse\, Hautsicherheit und wirtschaftliche Effizienz miteinander verbindet – ohne unnötige Komplexität. \n\nInhalte des Webinars \n\nVitamin C heute: welche Formen sinnvoll sind – und welche in Whitening-Protokollen eher problematisch\nWarum klassische Aufhellungsstrategien ohne Vitamin C oft an ihre Grenzen stoßen\nDie Schnittstelle von Anti-Aging und Pigmentkorrektur: wie man beide Ziele gleichzeitig erreicht\nDifferenzierter Einsatz bei Melasma\, PIH und lichtbedingter Hyperpigmentierung\nLichtstabilität\, Verträglichkeit und Timing: wann Vitamin C sinnvoll ist – und wann nicht\nSichere Protokolllogiken mit professionellen Renew-Präparaten\nTypische Fehler in Kombinationen\, die Ergebnisse sabotieren oder Rückfälle provozieren\nDie Rolle der Hautbarriere: warum Aufhellung ohne Stabilisierung nicht nachhaltig ist\nHomecare als Verlängerung des Kabinenergebnisses – verständlich erklärt\, logisch verkauft\n\n  \nDieses Webinar ist für Kosmetiker:innen\, die nicht mehr „probieren“\, sondern bewusst entscheiden wollen.Für mehr Sicherheit in der Arbeit\, mehr Vertrauen auf Kundenseite – und eine starke fachliche Positionierung.
URL:https://renew-kosmetik.de/event/webinar-vitamin-c-whitening-protokolle-an-der-schnittstelle-von-anti-aging-und-aufhellung-03-12-26
CATEGORIES:Webinar
ATTACH;FMTTYPE=image/png:https://renew-kosmetik.de/wp-content/uploads/2026/01/Nurnberg-2026-01-12T211731.431.png
END:VEVENT
BEGIN:VEVENT
DTSTART;TZID=Europe/Berlin:20261209T110000
DTEND;TZID=Europe/Berlin:20261209T120000
DTSTAMP:20260425T234721
CREATED:20251225T155903Z
LAST-MODIFIED:20251225T155903Z
UID:30842-1796814000-1796817600@renew-kosmetik.de
SUMMARY:Praktikum Hotline (09.12)
DESCRIPTION:Praktikum Hotline + Q&A \nExperten-Analyse Ihrer Fälle mit Inara Dadasheva \nWir laden professionelle Kosmetiker:innen zu einem neuen\, praxisorientierten Format ein — der Praktikum Hotline.Jede Ausgabe widmet sich echten Fällen aus dem Studioalltag\, die Sie uns im Voraus zusenden. \nDas ist keine Theorie\, sondern die Arbeit mit realen\, unverfälschten Situationen\, wie sie täglich in der Kabine passieren. \nTeilnehmer:innen können ihren eigenen Fall einreichen\, ein Protokoll vorstellen\, ein Problem schildern oder ein Ergebnis zeigen — und erhalten eine ehrliche\, fachlich fundierte und nachvollziehbare Analyse von Inara Dadasheva.Jeder Live-Termin hat ein neues Schwerpunktthema\, das sich direkt aus Ihren aktuellen Fragen ergibt. \nWas erwartet Sie? \n\nAnalyse echter Fälle aus der Praxis. Typische Fehler\, wichtige Details\, Protokoll-Anpassungen und konkrete Empfehlungen für Ihren Arbeitsalltag.\nSchritt-für-Schritt-Empfehlungen zur Ergebnisoptimierung. Was lässt sich verstärken\, verändern oder besser komplett weglassen?\nDie Möglichkeit\, fachliches Feedback zu Ihrem eigenen Fall zu erhalten. Individuelle Einschätzung im Live-Format — selten und extrem wertvoll.\nPraktischer Nutzen für alle Teilnehmer:innen. Auch ohne eigenen Fall profitieren Sie von den ausführlichen Analysen zahlreicher Situationen\, die jeder Profi aus der täglichen Arbeit kennt.\n\nFormat & Zugang \n\nDer Zugang wird ausschließlich registrierten Teilnehmer:innen freigeschaltet.\nDie Aufzeichnung bleibt 48 Stunden verfügbar\, danach wird sie geschlossen.
URL:https://renew-kosmetik.de/event/webinar-praktikum-hotline-09-12
CATEGORIES:Webinar
ATTACH;FMTTYPE=image/png:https://renew-kosmetik.de/wp-content/uploads/2025/12/Nurnberg-2025-12-25T165822.711.png
END:VEVENT
BEGIN:VEVENT
DTSTART;TZID=Europe/Berlin:20261210T110000
DTEND;TZID=Europe/Berlin:20261210T133000
DTSTAMP:20260425T234721
CREATED:20260106T131013Z
LAST-MODIFIED:20260106T131013Z
UID:30938-1796900400-1796909400@renew-kosmetik.de
SUMMARY:Инвентаризация без потерь: как избежать «залежей» и эффективно управлять запасами с RENEW (10.12)
DESCRIPTION:Теоретический семинар „Инвентаризация без потерь: как избежать «залежей» и эффективно управлять запасами с RENEW“ \nПриглашаем вас на профессиональный теоретический семинар\, посвящённый грамотному управлению складом косметолога.Вы узнаете\, как перестать замораживать деньги в неиспользуемых продуктах\, избежать списаний по срокам годности и выстроить понятную систему закупок и остатков при работе с продукцией RENEW. \nСеминар создан для специалистов\, которые хотят контролировать свои запасы\, планировать закупки осознанно и использовать каждый продукт максимально эффективно в процедурах и рекомендациях клиентам. \nСпикер — менеджер по продажам Renew\, специалист\, который ежедневно работает с косметологами и их практическими вопросами по закупкам\, ассортименту и рентабельности. Он простым и доступным языком объяснит\, как управлять запасами без хаоса и потерь. \n\nНа семинаре вы узнаете: \n\nпочему «залежи» товара возникают даже при активной работе с клиентами;\nкакие ошибки в закупках чаще всего приводят к заморозке бюджета;\nкак правильно проводить инвентаризацию и что обязательно учитывать;\nкак соотносить ассортимент с реальными процедурами и спросом клиентов;\nкак планировать закупки с учётом сезонности и оборота;\nкак использовать продукты RENEW так\, чтобы они работали и в процедурах\, и в домашнем уходе.\n\nИнформация подаётся структурировано и доступно\, с понятной логикой действий и примерами из реальной практики косметологов. \n\nСтоимость участия возвращается вам в виде бонуса \n29 € можно использовать как сертификат на покупку продукции RENEWпри заказе от 120 € в течение 1 недели после семинара. \n\nСеминар подойдёт специалистам\, которые хотят: \n\nперестать замораживать деньги в неиспользуемых продуктах;\nсократить списания по срокам годности;\nвыстроить прозрачную систему учёта и закупок;\nработать с ассортиментом осознанно и выгодно;\nповысить рентабельность своей практики без увеличения нагрузки.
URL:https://renew-kosmetik.de/event/seminar-inventarizaciya-bez-poter-10-12-26
LOCATION:Kopernikusstr. 18 Nürnberg\, Kopernikusstr. 18\, Nürnberg\, Germany
CATEGORIES:Seminar
ATTACH;FMTTYPE=image/png:https://renew-kosmetik.de/wp-content/uploads/2026/01/Nurnberg-2026-01-06T140921.993.png
END:VEVENT
BEGIN:VEVENT
DTSTART;TZID=Europe/Berlin:20261215T110000
DTEND;TZID=Europe/Berlin:20261215T120000
DTSTAMP:20260425T234721
CREATED:20251225T160226Z
LAST-MODIFIED:20251225T160226Z
UID:30845-1797332400-1797336000@renew-kosmetik.de
SUMMARY:Praktikum Hotline (15.12)
DESCRIPTION:Praktikum Hotline + Вопрос-ответ \nЭкспертный разбор ваших кейсов с Инарой Дадашевой \nПриглашаем профессиональных косметологов на новый формат — Praktikum Hotline\, где каждый выпуск посвящён разбору реальных ситуаций из практики специалистов.Это не теория — это работа с живыми случаями\, которые вы присылаете заранее. \nУчастники получают возможность задать свой вопрос\, показать протокол\, описать проблему или результат — и получить честный\, профессиональный и аргументированный разбор от Инары Дадашевой.Каждый эфир — новая актуальная тема\, основанная на вопросах\, которые волнуют специалистов прямо сейчас. \nЧто вас ждёт? \n\nРазбор реальных кейсов от косметологов. Ошибки\, нюансы\, корректировки протоколов и рекомендации для практики.\nПошаговые рекомендации по улучшению результата. Что можно усилить\, изменить или исключить.\nВозможность получить экспертное мнение по вашему случаю. Индивидуальная обратная связь в прямом эфире — редкая и ценная возможность.\nПрактическая польза для каждого участника. Даже если вы не отправляете свой кейс\, вы получаете разборы десятков ситуаций\, которые встречаются в работе ежедневно.\n\nФормат и доступ \n\nДоступ получают только зарегистрированные участники.\nПросмотр открыт 48 часов\, затем доступ закрывается.\n\n  \nНиже пример того\, как проходит наш вебинар. \nhttps://www.youtube.com/watch?v=lEPSxg_pUG8&t=1147s \n 
URL:https://renew-kosmetik.de/event/praktikum-hotline-15-12
CATEGORIES:Webinar
ATTACH;FMTTYPE=image/png:https://renew-kosmetik.de/wp-content/uploads/2025/12/Nurnberg-2025-12-25T170141.041.png
END:VEVENT
END:VCALENDAR