BEGIN:VCALENDAR
VERSION:2.0
PRODID:-//Renew Kosmetik - ECPv6.15.20//NONSGML v1.0//EN
CALSCALE:GREGORIAN
METHOD:PUBLISH
X-WR-CALNAME:Renew Kosmetik
X-ORIGINAL-URL:https://renew-kosmetik.de
X-WR-CALDESC:Veranstaltungen für Renew Kosmetik
REFRESH-INTERVAL;VALUE=DURATION:PT1H
X-Robots-Tag:noindex
X-PUBLISHED-TTL:PT1H
BEGIN:VTIMEZONE
TZID:Europe/Berlin
BEGIN:DAYLIGHT
TZOFFSETFROM:+0100
TZOFFSETTO:+0200
TZNAME:CEST
DTSTART:20250330T010000
END:DAYLIGHT
BEGIN:STANDARD
TZOFFSETFROM:+0200
TZOFFSETTO:+0100
TZNAME:CET
DTSTART:20251026T010000
END:STANDARD
BEGIN:DAYLIGHT
TZOFFSETFROM:+0100
TZOFFSETTO:+0200
TZNAME:CEST
DTSTART:20260329T010000
END:DAYLIGHT
BEGIN:STANDARD
TZOFFSETFROM:+0200
TZOFFSETTO:+0100
TZNAME:CET
DTSTART:20261025T010000
END:STANDARD
BEGIN:DAYLIGHT
TZOFFSETFROM:+0100
TZOFFSETTO:+0200
TZNAME:CEST
DTSTART:20270328T010000
END:DAYLIGHT
BEGIN:STANDARD
TZOFFSETFROM:+0200
TZOFFSETTO:+0100
TZNAME:CET
DTSTART:20271031T010000
END:STANDARD
END:VTIMEZONE
BEGIN:VEVENT
DTSTART;TZID=Europe/Berlin:20261215T110000
DTEND;TZID=Europe/Berlin:20261215T120000
DTSTAMP:20260425T214655
CREATED:20251225T160226Z
LAST-MODIFIED:20251225T160226Z
UID:30845-1797332400-1797336000@renew-kosmetik.de
SUMMARY:Praktikum Hotline (15.12)
DESCRIPTION:Praktikum Hotline + Вопрос-ответ \nЭкспертный разбор ваших кейсов с Инарой Дадашевой \nПриглашаем профессиональных косметологов на новый формат — Praktikum Hotline\, где каждый выпуск посвящён разбору реальных ситуаций из практики специалистов.Это не теория — это работа с живыми случаями\, которые вы присылаете заранее. \nУчастники получают возможность задать свой вопрос\, показать протокол\, описать проблему или результат — и получить честный\, профессиональный и аргументированный разбор от Инары Дадашевой.Каждый эфир — новая актуальная тема\, основанная на вопросах\, которые волнуют специалистов прямо сейчас. \nЧто вас ждёт? \n\nРазбор реальных кейсов от косметологов. Ошибки\, нюансы\, корректировки протоколов и рекомендации для практики.\nПошаговые рекомендации по улучшению результата. Что можно усилить\, изменить или исключить.\nВозможность получить экспертное мнение по вашему случаю. Индивидуальная обратная связь в прямом эфире — редкая и ценная возможность.\nПрактическая польза для каждого участника. Даже если вы не отправляете свой кейс\, вы получаете разборы десятков ситуаций\, которые встречаются в работе ежедневно.\n\nФормат и доступ \n\nДоступ получают только зарегистрированные участники.\nПросмотр открыт 48 часов\, затем доступ закрывается.\n\n  \nНиже пример того\, как проходит наш вебинар. \nhttps://www.youtube.com/watch?v=lEPSxg_pUG8&t=1147s \n 
URL:https://renew-kosmetik.de/event/praktikum-hotline-15-12
CATEGORIES:Webinar
ATTACH;FMTTYPE=image/png:https://renew-kosmetik.de/wp-content/uploads/2025/12/Nurnberg-2025-12-25T170141.041.png
END:VEVENT
END:VCALENDAR