BEGIN:VCALENDAR
VERSION:2.0
PRODID:-//Renew Kosmetik - ECPv6.15.20//NONSGML v1.0//EN
CALSCALE:GREGORIAN
METHOD:PUBLISH
X-WR-CALNAME:Renew Kosmetik
X-ORIGINAL-URL:https://renew-kosmetik.de
X-WR-CALDESC:Veranstaltungen für Renew Kosmetik
REFRESH-INTERVAL;VALUE=DURATION:PT1H
X-Robots-Tag:noindex
X-PUBLISHED-TTL:PT1H
BEGIN:VTIMEZONE
TZID:Europe/Berlin
BEGIN:DAYLIGHT
TZOFFSETFROM:+0100
TZOFFSETTO:+0200
TZNAME:CEST
DTSTART:20250330T010000
END:DAYLIGHT
BEGIN:STANDARD
TZOFFSETFROM:+0200
TZOFFSETTO:+0100
TZNAME:CET
DTSTART:20251026T010000
END:STANDARD
BEGIN:DAYLIGHT
TZOFFSETFROM:+0100
TZOFFSETTO:+0200
TZNAME:CEST
DTSTART:20260329T010000
END:DAYLIGHT
BEGIN:STANDARD
TZOFFSETFROM:+0200
TZOFFSETTO:+0100
TZNAME:CET
DTSTART:20261025T010000
END:STANDARD
BEGIN:DAYLIGHT
TZOFFSETFROM:+0100
TZOFFSETTO:+0200
TZNAME:CEST
DTSTART:20270328T010000
END:DAYLIGHT
BEGIN:STANDARD
TZOFFSETFROM:+0200
TZOFFSETTO:+0100
TZNAME:CET
DTSTART:20271031T010000
END:STANDARD
END:VTIMEZONE
BEGIN:VEVENT
DTSTART;TZID=Europe/Berlin:20260108T110000
DTEND;TZID=Europe/Berlin:20260108T120000
DTSTAMP:20260423T191504
CREATED:20251203T210923Z
LAST-MODIFIED:20251209T160957Z
UID:30495-1767870000-1767873600@renew-kosmetik.de
SUMMARY:Praktikum Hotline +  Вопрос-ответ  (08.01)
DESCRIPTION:Praktikum Hotline + Вопрос-ответ \nЭкспертный разбор ваших кейсов с Инарой Дадашевой \nПриглашаем профессиональных косметологов на новый формат — Praktikum Hotline\, где каждый выпуск посвящён разбору реальных ситуаций из практики специалистов.Это не теория — это работа с живыми случаями\, которые вы присылаете заранее. \nУчастники получают возможность задать свой вопрос\, показать протокол\, описать проблему или результат — и получить честный\, профессиональный и аргументированный разбор от Инары Дадашевой.Каждый эфир — новая актуальная тема\, основанная на вопросах\, которые волнуют специалистов прямо сейчас. \nЧто вас ждёт? \n\nРазбор реальных кейсов от косметологов. Ошибки\, нюансы\, корректировки протоколов и рекомендации для практики.\nПошаговые рекомендации по улучшению результата. Что можно усилить\, изменить или исключить.\nВозможность получить экспертное мнение по вашему случаю. Индивидуальная обратная связь в прямом эфире — редкая и ценная возможность.\nПрактическая польза для каждого участника. Даже если вы не отправляете свой кейс\, вы получаете разборы десятков ситуаций\, которые встречаются в работе ежедневно.\n\nФормат и доступ \n\nДоступ получают только зарегистрированные участники.\nПросмотр открыт 48 часов\, затем доступ закрывается.\n\n  \nНиже пример того\, как проходит наш вебинар. \nhttps://www.youtube.com/watch?v=lEPSxg_pUG8&t=1147s \n  \n 
URL:https://renew-kosmetik.de/event/webinar-praktikum-hotline-08-01-26
LOCATION:online
CATEGORIES:Webinar
ATTACH;FMTTYPE=image/png:https://renew-kosmetik.de/wp-content/uploads/2025/12/Nurnberg-2025-12-09T164500.946.png
END:VEVENT
BEGIN:VEVENT
DTSTART;TZID=Europe/Berlin:20260117T100000
DTEND;TZID=Europe/Berlin:20260117T180000
DTSTAMP:20260423T191504
CREATED:20251003T103558Z
LAST-MODIFIED:20260104T192239Z
UID:29929-1768644000-1768672800@renew-kosmetik.de
SUMMARY:Микронидлинг 360°: протоколы для омоложения лица и роста волос (17.01)
DESCRIPTION:Микронидлинг — одна из самых востребованных и универсальных процедур в современной косметологии. Она сочетает высокую эффективность с безопасностью и дает заметный результат как в программах омоложения\, так и в терапии выпадения волос. \nНа семинаре мы разберем теорию и перейдем к практике\, включая постановку руки\, чтобы вы не только поняли механизмы процедуры\, но и смогли уверенно применять её в своей работе. \nСпикер: Инара Дадашева \nВ программе: \n\nКак работает микронидлинг: воздействие на кожу и волосы на клеточном уровне\nПротоколы для омоложения лица: улучшение текстуры кожи\, уменьшение морщин\, работа с рубцами и постакне\nПротоколы для стимуляции роста волос и укрепления фолликулов\nПодбор профессиональных препаратов Renew для максимального эффекта\nПрактическая отработка техники под руководством тренера (2 практических части)\n\n  \nВ стоимость участия входит подарочный сертификат на 150 € для приобретения продукции или аппаратов ТМ Renew(при закупке от 270 евро в течение 2 недель после семинара). \n  \nПосле семинара вы сможете грамотно подбирать протоколы под разные задачи\, безопасно и эффективно работать с лицом и волосистой частью головы\, а также уверенно проводить процедуры микронидлинга в своей практике. \nЗарегистрируйтесь на семинар и получите готовые инструменты для расширения вашего профессионального арсенала.
URL:https://renew-kosmetik.de/event/mikronidling-360-protokoly-dlya-omolozheniya-lica-i-rosta-volos-17-01-25
LOCATION:Essen\, Gerscheder Weiden 41\, Essen\, 45357\, Germany
CATEGORIES:Seminar
ATTACH;FMTTYPE=image/png:https://renew-kosmetik.de/wp-content/uploads/2025/10/Nurnberg-2025-12-15T150152.237.png
END:VEVENT
BEGIN:VEVENT
DTSTART;TZID=Europe/Berlin:20260125T100000
DTEND;TZID=Europe/Berlin:20260125T150000
DTSTAMP:20260423T191504
CREATED:20251003T113153Z
LAST-MODIFIED:20260108T095315Z
UID:29949-1769335200-1769353200@renew-kosmetik.de
SUMMARY:Сложный пациент: Дифференциальная диагностика и стратегия терапии акне и розацеа на фоне возрастных изменений (25.01)
DESCRIPTION:Работа со «сложным» пациентом — один из самых больших профессиональных вызовов для косметолога.Поздние акне\, дебют розацеа\, возрастные изменения кожи часто переплетаются между собой\, маскируя истинную причину проблемы. Ошибки в интерпретации симптомов могут привести к неправильной терапии\, ухудшению состояния кожи и потере доверия со стороны пациента. \nНа семинаре мы разберём дифференциальную диагностику акне и розацеа на фоне возрастных изменений\, научимся читать кожу «в комплексе» и выстраивать грамотную стратегию терапии для требовательного\, зрелого пациента. Участников ждёт сочетание теории и практики\, а также рабочие протоколы с использованием космецевтики Renew\, ориентированные на стойкий и безопасный результат. \n  \nСпикер: Оксана Осадчая \nВ стоимость участия входит подарочный сертификат 20 € для приобретения продукции Renew(при закупке от 270 € в течение 2 недель после семинара) \n  \nВ программе семинара: \n\nПоздние акне и розацеа: ключевые отличия и точки пересечения\nКак распознать истинную причину воспалений у возрастного пациента\nОсобенности кожи 35+ и их влияние на течение акне и розацеа\nДифференциальная диагностика: на что обращать внимание при сборе анамнеза и осмотре кожи\nСтратегия терапии: как выстраивать протоколы без обострений и осложнений\nОбзор препаратов Renew для работы с воспалениями и возрастными изменениями\nГотовые схемы ухода и практические рекомендации для достижения стойкой ремиссии\n\n  \nПосле семинара вы сможете уверенно работать со сложными клиническими случаями\, грамотно различать акне и розацеа у зрелых пациентов\, подбирать эффективную и безопасную терапию и выстраивать долгосрочные программы ухода с прогнозируемым результатом. \nЗарегистрируйтесь на семинар и получите чёткие инструменты для работы с самыми непростыми запросами в вашей практике.
URL:https://renew-kosmetik.de/event/seminar-strategiya-terapii-akne-i-rozacea-na-fone-vozrastnyh-izmenenij-25-01-26
LOCATION:Freiburg\, Salon Edelweiss Oberlinden 9б\, Freiburg\, 79098\, Germany
CATEGORIES:Seminar
ATTACH;FMTTYPE=image/png:https://renew-kosmetik.de/wp-content/uploads/2025/10/Nurnberg-2026-01-08T104544.728.png
END:VEVENT
END:VCALENDAR