BEGIN:VCALENDAR
VERSION:2.0
PRODID:-//Renew Kosmetik - ECPv6.15.20//NONSGML v1.0//EN
CALSCALE:GREGORIAN
METHOD:PUBLISH
X-WR-CALNAME:Renew Kosmetik
X-ORIGINAL-URL:https://renew-kosmetik.de
X-WR-CALDESC:Veranstaltungen für Renew Kosmetik
REFRESH-INTERVAL;VALUE=DURATION:PT1H
X-Robots-Tag:noindex
X-PUBLISHED-TTL:PT1H
BEGIN:VTIMEZONE
TZID:Europe/Berlin
BEGIN:DAYLIGHT
TZOFFSETFROM:+0100
TZOFFSETTO:+0200
TZNAME:CEST
DTSTART:20250330T010000
END:DAYLIGHT
BEGIN:STANDARD
TZOFFSETFROM:+0200
TZOFFSETTO:+0100
TZNAME:CET
DTSTART:20251026T010000
END:STANDARD
BEGIN:DAYLIGHT
TZOFFSETFROM:+0100
TZOFFSETTO:+0200
TZNAME:CEST
DTSTART:20260329T010000
END:DAYLIGHT
BEGIN:STANDARD
TZOFFSETFROM:+0200
TZOFFSETTO:+0100
TZNAME:CET
DTSTART:20261025T010000
END:STANDARD
BEGIN:DAYLIGHT
TZOFFSETFROM:+0100
TZOFFSETTO:+0200
TZNAME:CEST
DTSTART:20270328T010000
END:DAYLIGHT
BEGIN:STANDARD
TZOFFSETFROM:+0200
TZOFFSETTO:+0100
TZNAME:CET
DTSTART:20271031T010000
END:STANDARD
END:VTIMEZONE
BEGIN:VEVENT
DTSTART;TZID=Europe/Berlin:20260604T100000
DTEND;TZID=Europe/Berlin:20260604T160000
DTSTAMP:20260423T173422
CREATED:20251219T193558Z
LAST-MODIFIED:20260407T142249Z
UID:30796-1780567200-1780588800@renew-kosmetik.de
SUMMARY:Как косметологу зарабатывать 300–500€ с клиента: курсы процедур и продажи ухода (04.06)
DESCRIPTION:Системный доход косметолога: как стимулировать регулярные закупки и эффективно продавать курсы инъекционных процедур\nПриглашаем профессиональных косметологов на семинар\, посвящённый выстраиванию стабильного дохода через курсовую работу с инъекционными препаратами.Вы узнаете\, как перестать работать «от клиента к клиенту» и перейти к понятной системе ежемесячных закупок\, прогнозируемого дохода и высокой лояльности пациентов. \nЭтот семинар — для специалистов\, которые хотят уверенно рекомендовать курсы инъекций\, повышать средний чек и выстраивать долгосрочные отношения с клиентами без давления и навязывания. \nСпикер: Оксана ОсадчаяПрактикующий эксперт с большим опытом работы с инъекционными методиками и построением коммерчески успешной практики косметолога. \nВ программе семинара: \n\nПочему разовые инъекционные процедуры не дают ни стабильного результата\, ни стабильного дохода — и как правильно выстраивать курсы.\nПсихология клиента: как формируется доверие к курсовой работе и почему пациент соглашается на план процедур.\nСтруктура курсов инъекционных методик: логика\, этапы\, интервалы и ожидаемый результат для клиента.\nКак грамотно презентовать курс инъекций: язык выгод\, безопасности и прогнозируемого эффекта.\nОшибки косметологов\, которые мешают продавать курсы и приводят к потере клиентов.\nКак планирование курсов стимулирует регулярные ежемесячные закупки препаратов без стресса и хаоса.\nСвязка инъекционных процедур с уходом и аппаратными методиками для усиления результата и роста чека.\n\n  \nПрактический блок: \n\nГотовые сценарии консультации\, которые помогают клиенту принять решение о курсе.\nПримеры курсовых программ для разных запросов: омоложение\, качество кожи\, профилактика возрастных изменений.\nКак фиксировать результат и повышать возвратность клиентов на следующие этапы.\n\nБонус для участников: \nПодарочный сертификат 20 € на приобретение продукции Renew(действует при закупке от 270 € в течение 2 дней после семинара). \nРезультат после семинара \nВы получите чёткое понимание\, как выстраивать курсовую работу с инъекционными препаратами\, уверенность в рекомендациях и систему\, которая позволяет планировать доход и закупки на месяцы вперёд.Этот семинар — для косметологов\, которые хотят работать профессионально\, стабильно и финансово уверенно\, а не зависеть от случайных записей.
URL:https://renew-kosmetik.de/event/seminar-kak-kosmetologu-zarabatyvat-300-500e-s-klienta-kursy-procedur-i-prodazhi-uhoda-04-06-26
LOCATION:Berlin\, Paracelsus Heilpraktikerakademie Hallerstraße 3 · 10587 Berlin\, Berlin\, Germany
CATEGORIES:Seminar
ATTACH;FMTTYPE=image/png:https://renew-kosmetik.de/wp-content/uploads/2025/12/Nurnberg-99.png
END:VEVENT
BEGIN:VEVENT
DTSTART;TZID=Europe/Berlin:20260608T110000
DTEND;TZID=Europe/Berlin:20260608T120000
DTSTAMP:20260423T173422
CREATED:20260407T142821Z
LAST-MODIFIED:20260407T142821Z
UID:32311-1780916400-1780920000@renew-kosmetik.de
SUMMARY:Arbeit mit Couperose: Klassisches Redness-Protokoll von RENEW in der Praxis (08.06)
DESCRIPTION:Arbeit mit Couperose: Klassisches Redness-Protokoll von RENEW in der Praxis \nKostenloses Praxis-Webinar \nCouperose-Haut erfordert ein besonders präzises und durchdachtes Vorgehen.Falsche Schritte können Rötungen verstärken\, während die richtige Technik die Haut sichtbar beruhigt und stärkt. \nIn diesem Webinar zeigen wir Ihnen nicht nur Theorie\, sondern eine vollständige Behandlung Schritt für Schritt – so\, wie Sie sie direkt in Ihrem Studio umsetzen können. \nDas erwartet Sie im Webinar: \n\neine komplette Live-Demonstration der Couperose-Behandlung nach dem Redness-Protokoll von RENEW\ndetaillierte Erklärung jedes Behandlungsschritts – von der Reinigung bis zur Abschlusspflege\nwelche Produkte in welcher Reihenfolge eingesetzt werden und warum\nwie Sie die Haut gezielt beruhigen\, Gefäße stabilisieren und Rötungen reduzieren\nwichtige нюансы в работе с чувствительной кожей\, die über den Erfolg der Behandlung entscheiden\npraktische Tipps für sichere und effektive Ergebnisse bei Ihren Kundinnen\n\nSie sehen den gesamten Ablauf in der Praxis und erhalten ein klares Verständnis\, wie Sie die Behandlung selbst sicher durchführen können. \nFür wen ist dieses Webinar geeignet?Für Kosmetikerinnen\, die Couperose professionell behandeln möchten und ein fertiges\, praxiserprobtes Protokoll suchen\, das sie sofort in ihrem Studio einsetzen können.
URL:https://renew-kosmetik.de/event/webinar-arbeit-mit-couperose-klassisches-redness-protokoll-von-renew-in-der-praxis-08-06-26
CATEGORIES:Webinar
ATTACH;FMTTYPE=image/png:https://renew-kosmetik.de/wp-content/uploads/2026/04/Nurnberg-2026-04-07T162613.360.png
END:VEVENT
BEGIN:VEVENT
DTSTART;TZID=Europe/Berlin:20260613T100000
DTEND;TZID=Europe/Berlin:20260613T150000
DTSTAMP:20260423T173422
CREATED:20260106T115706Z
LAST-MODIFIED:20260325T123623Z
UID:30918-1781344800-1781362800@renew-kosmetik.de
SUMMARY:Акне летом: некомедогенные протоколы + стабильный результат без обострений (13.06)
DESCRIPTION:Практический семинар \nЖаркий сезон — серьёзное испытание для кожи\, склонной к высыпаниям и воспалениям. Повышенное салоотделение\, пот\, окклюзия\, неправильный подбор средств — всё это быстро приводит к обострениям\, даже у клиентов с «условно нормальной» кожей.В этот период косметологу важно не просто «подсушить» кожу\, а грамотно выстроить уход\, который контролирует воспаления\, не перегружает поры и сохраняет барьерные функции. \nНа практикуме мы разберём\, как работать с проблемной кожей летом безопасно и результативно\, какие ошибки чаще всего допускаются в жару и как выстраивать некомедогенные протоколы на базе профессиональных продуктов Renew.Вас ждёт сочетание теории и практической демонстрации процедур с разбором рабочих схем. \nСпикер: Оксана Осадчая \nВ программе практикума: \n\nПочему проблемная кожа обостряется в жару: ключевые триггеры воспалений\nКомедогенность: мифы и реальность — как не перегрузить кожу в летних протоколах\nОтличие обезвоженной проблемной кожи от жирной и гиперсеборейной\nПодбор некомедогенных уходов для разных состояний кожи\nКак снижать воспаление\, не разрушая кожный барьер\nОбзор профессиональных средств Renew для работы с акне и воспалительными элементами\nПрактическая часть: демонстрация процедур\, пошаговые протоколы и разбор нюансов работы в жаркий сезон\n\nБонус для участников \nВ стоимость участия входит подарочный сертификат 20 €на приобретение продукции Renew(при закупке от 270 € в течение 2 недель после семинара) \nРезультат после практикума \nВы сможете уверенно работать с проблемной кожей в летний период\, подбирать некомедогенные протоколы\, снижать риск обострений и получать стабильный результат без перегрузки кожи.Семинар даст вам готовые практические инструменты\, которые легко внедряются в ежедневную работу и повышают доверие клиентов. \nЗарегистрируйтесь на практикум и получите чёткие решения для работы с проблемной кожей в самый сложный сезон.
URL:https://renew-kosmetik.de/event/semenar-akne-letom-nekomedogennye-protokoly-stabilnyj-rezultat-bez-obostrenij-13-06-26
LOCATION:Stuttgart\, Kosmetikschule Lehmann Königstrasse 49\, Stuttgart\, 70173\, Germany
CATEGORIES:Seminar
ATTACH;FMTTYPE=image/png:https://renew-kosmetik.de/wp-content/uploads/2026/01/Nurnberg-98.png
END:VEVENT
BEGIN:VEVENT
DTSTART;TZID=Europe/Berlin:20260613T100000
DTEND;TZID=Europe/Berlin:20260613T180000
DTSTAMP:20260423T173422
CREATED:20251205T212712Z
LAST-MODIFIED:20260325T123844Z
UID:30657-1781344800-1781373600@renew-kosmetik.de
SUMMARY:Микронидлинг 360°: протоколы для омоложения лица и роста волос (13.06)
DESCRIPTION:Микронидлинг — одна из самых востребованных и универсальных процедур в современной косметологии. Она сочетает высокую эффективность с безопасностью и дает заметный результат как в программах омоложения\, так и в терапии выпадения волос. \nНа семинаре мы разберем теорию и перейдем к практике\, включая постановку руки\, чтобы вы не только поняли механизмы процедуры\, но и смогли уверенно применять её в своей работе. \nСпикер: Инара Дадашева \nВ программе: \n\nКак работает микронидлинг: воздействие на кожу и волосы на клеточном уровне\nПротоколы для омоложения лица: улучшение текстуры кожи\, уменьшение морщин\, работа с рубцами и постакне\nПротоколы для стимуляции роста волос и укрепления фолликулов\nПодбор профессиональных препаратов Renew для максимального эффекта\nПрактическая отработка техники под руководством тренера (2 практических части)\n\n\n  \nВ стоимость участия входит подарочный сертификат на 150 € для приобретения продукции Renew(при закупке от 270 евро в течение 2 недель после семинара). \n  \n\nПосле семинара вы сможете грамотно подбирать протоколы под разные задачи\, безопасно и эффективно работать с лицом и волосистой частью головы\, а также уверенно проводить процедуры микронидлинга в своей практике. \nЗарегистрируйтесь на семинар и получите готовые инструменты для расширения вашего профессионального арсенала.
URL:https://renew-kosmetik.de/event/seminar-protokoly-dlya-omolozheniya-lica-i-rosta-volos-13-06-26
LOCATION:Hamburg\, Hamburg\, Germany
CATEGORIES:Seminar
ATTACH;FMTTYPE=image/png:https://renew-kosmetik.de/wp-content/uploads/2025/12/Nurnberg-2026-01-12T220059.266.png
END:VEVENT
BEGIN:VEVENT
DTSTART;TZID=Europe/Berlin:20260614T100000
DTEND;TZID=Europe/Berlin:20260614T160000
DTSTAMP:20260423T173422
CREATED:20251219T191455Z
LAST-MODIFIED:20260407T143557Z
UID:30791-1781431200-1781452800@renew-kosmetik.de
SUMMARY:RENEW Bestseller: Die Top-Favoriten im Check (14.06)
DESCRIPTION:Neue Wirkstoffe und moderne Formulierungen verändern heute die Arbeit in der Kosmetologie grundlegend.\nDie Hautbehandlung entwickelt sich hin zu gezielten Lösungen\, nachvollziehbaren Ergebnissen und einer durchdachten Kombination aktiver Wirkstoffe. \nBeim Übersichtsseminar von Renew lernen Sie innovative Ansätze und ausgewählte Top-Produkte kennen\, die in der Praxis stabile und wiederholbare Ergebnisse liefern — auch bei anspruchsvollen Hautzuständen. \n✔️ Es werden alle Pflegelinien von Renew vorgestellt\n— für die professionelle Anwendung im Institut\n— sowie für die Heimpflege Ihrer Kund:innen \n✔️ Sie lernen die Bestseller jeder Linie kennen\, basierend auf den aktuell gefragtesten Wirkstoffen:\n— Retinol der neuen Generation ohne aggressive Rehabilitationsphase\n— Peptidkomplexe mit gezielter Wirkung\n— Bakuchiol als Alternative zu Retinoiden\n— Säuren mit kontrollierter und steuerbarer Wirkung\n— PDRN (Polydeoxyribonukleotide): ein hochwirksamer regenerativer Wirkstoff zur Förderung der Hauterneuerung\, Wundheilung und Anti-Aging-Prozesse \nSie sehen die Produkte nicht nur — Sie erleben sie in der Anwendung: \n— Sie testen die Produkte direkt auf Ihrer eigenen Haut\n— Sie beurteilen Texturen\, Duft und Hautgefühl\n— Sie verstehen\, wie sich die Produkte in der Praxis verhalten \nDas gibt Ihnen Sicherheit in Ihren Empfehlungen und ein klares Gefühl dafür\, was Sie Ihren Kund:innen wirklich anbieten.Sie testen Produkte für die häufigsten Kundenanliegen: \n— Anti-Aging mit Langzeiteffekt\n— Akne\, Post-Akne\, Rosazea und Couperose\n— Regeneration sensibler und geschädigter Haut\n— Aufhellung und Behandlung von Hyperpigmentierung \nIm Teilnahmebeitrag ist ein Gutschein im Wert von 20 € für den Kauf von Renew-Produkten enthalten(gültig bei einem Einkauf ab 270 € innerhalb von 2 Tagen nach dem Seminar). \nDie Teilnehmerzahl ist begrenzt – sichern Sie sich jetzt Ihren Platz!
URL:https://renew-kosmetik.de/event/seminar-krenew-bestseller-die-top-favoriten-im-check-14-06-26
LOCATION:Hamburg\, Hamburg\, Germany
CATEGORIES:Seminar
ATTACH;FMTTYPE=image/png:https://renew-kosmetik.de/wp-content/uploads/2025/12/Nurnberg-2026-04-07T163459.284.png
END:VEVENT
BEGIN:VEVENT
DTSTART;TZID=Europe/Berlin:20260616T110000
DTEND;TZID=Europe/Berlin:20260616T133000
DTSTAMP:20260423T173422
CREATED:20251225T210533Z
LAST-MODIFIED:20260325T112627Z
UID:30872-1781607600-1781616600@renew-kosmetik.de
SUMMARY:Пептиды в работе косметолога: как получить лифтинг без инъекций и увеличить чек процедур (16.06)
DESCRIPTION:Теоретический семинар \nПриглашаем вас на профессиональный теоретический семинар\, посвящённый пептидам как ключевому инструменту современной anti-age-косметологии.Вы разберётесь\, почему именно пептиды сегодня считаются альтернативой агрессивным методикам и как с их помощью получать выраженный омолаживающий эффект без стресса для кожи. \nСеминар создан для косметологов\, которые хотят осознанно работать с anti-age-протоколами\, понимать механизмы действия активов и уверенно объяснять клиентам\, за счёт чего формируется результат. \nСпикер — менеджер по продажам Renew\, специалист\, который ежедневно работает с продуктами бренда\, пептидными формулами и практическими запросами косметологов. Простым и понятным языком он объяснит\, как пептиды работают на уровне кожи и как правильно применять их в уходе и процедурах. \nНа семинаре вы узнаете: \n\nпочему пептиды называют «умными» молекулами и чем они принципиально отличаются от классических anti-age-активов;\nкак работают сигнальные пептиды и каким образом они запускают процессы обновления и восстановления кожи;\nв чём особенность миорелаксирующих пептидов и как они помогают корректировать мимические морщины без инъекций;\nкак правильно подбирать пептидные средства RENEW под возраст\, тип кожи и запрос клиента;\nкак сочетать пептиды с другими активами без снижения эффективности;\nкак грамотно объяснять клиенту принцип действия пептидов и формировать доверие к рекомендациям.\n\nИнформация подаётся структурировано и доступно\, с акцентом на практическую логику применения продуктов RENEW и реальные рабочие ситуации в кабинете косметолога. \nСтоимость участия возвращается вам в виде бонуса \n29 € можно использовать как сертификат на покупку продукции RENEWпри заказе от 120 € в течение 1 недели после семинара. \nСеминар подойдёт специалистам\, которые хотят: \n\nглубже разобраться в современных anti-age-подходах;\nуверенно использовать пептиды в профессиональных и домашних протоколах;\nпредлагать клиентам эффективную альтернативу агрессивным методам омоложения;\nповысить результативность процедур с продуктами RENEW;\nукрепить свою экспертность и доверие клиентов.
URL:https://renew-kosmetik.de/event/seminar-peptidy-v-rabote-kosmetologa-kak-poluchit-lifting-bez-inekcij-i-uvelichit-chek-procedur-16-06-26
LOCATION:Kopernikusstr. 18 Nürnberg\, Kopernikusstr. 18\, Nürnberg\, Germany
CATEGORIES:Seminar
ATTACH;FMTTYPE=image/png:https://renew-kosmetik.de/wp-content/uploads/2025/12/Nurnberg-92-3.png
END:VEVENT
BEGIN:VEVENT
DTSTART;TZID=Europe/Berlin:20260617T110000
DTEND;TZID=Europe/Berlin:20260617T120000
DTSTAMP:20260423T173422
CREATED:20251225T204913Z
LAST-MODIFIED:20251225T204913Z
UID:30866-1781694000-1781697600@renew-kosmetik.de
SUMMARY:Praktikum Hotline + Q&A (17.06)
DESCRIPTION:Praktikum Hotline + Q&A \nExperten-Analyse Ihrer Fälle mit Inara Dadasheva \nWir laden professionelle Kosmetiker:innen zu einem neuen\, praxisorientierten Format ein — der Praktikum Hotline.Jede Ausgabe widmet sich echten Fällen aus dem Studioalltag\, die Sie uns im Voraus zusenden. \nDas ist keine Theorie\, sondern die Arbeit mit realen\, unverfälschten Situationen\, wie sie täglich in der Kabine passieren. \nTeilnehmer:innen können ihren eigenen Fall einreichen\, ein Protokoll vorstellen\, ein Problem schildern oder ein Ergebnis zeigen — und erhalten eine ehrliche\, fachlich fundierte und nachvollziehbare Analyse von Inara Dadasheva.Jeder Live-Termin hat ein neues Schwerpunktthema\, das sich direkt aus Ihren aktuellen Fragen ergibt. \nWas erwartet Sie? \n\nAnalyse echter Fälle aus der Praxis. Typische Fehler\, wichtige Details\, Protokoll-Anpassungen und konkrete Empfehlungen für Ihren Arbeitsalltag.\nSchritt-für-Schritt-Empfehlungen zur Ergebnisoptimierung. Was lässt sich verstärken\, verändern oder besser komplett weglassen?\nDie Möglichkeit\, fachliches Feedback zu Ihrem eigenen Fall zu erhalten. Individuelle Einschätzung im Live-Format — selten und extrem wertvoll.\nPraktischer Nutzen für alle Teilnehmer:innen. Auch ohne eigenen Fall profitieren Sie von den ausführlichen Analysen zahlreicher Situationen\, die jeder Profi aus der täglichen Arbeit kennt.\n\nFormat & Zugang \n\nDer Zugang wird ausschließlich registrierten Teilnehmer:innen freigeschaltet.\nDie Aufzeichnung bleibt 48 Stunden verfügbar\, danach wird sie geschlossen.
URL:https://renew-kosmetik.de/event/praktikum-hotline-qa-17-06
CATEGORIES:Webinar
ATTACH;FMTTYPE=image/png:https://renew-kosmetik.de/wp-content/uploads/2025/12/Nurnberg-2025-12-25T214842.339.png
END:VEVENT
BEGIN:VEVENT
DTSTART;TZID=Europe/Berlin:20260623T110000
DTEND;TZID=Europe/Berlin:20260623T120000
DTSTAMP:20260423T173422
CREATED:20260407T143953Z
LAST-MODIFIED:20260407T143953Z
UID:32317-1782212400-1782216000@renew-kosmetik.de
SUMMARY:Die 5 häufigsten Fehler bei der Akne-Behandlung: Und wie Sie sie vermeiden
DESCRIPTION:Die 5 häufigsten Fehler bei der Akne-Behandlung: Und wie Sie sie vermeiden \nKostenloses Online-Webinar \nUnreine Haut\, Entzündungen und wiederkehrende Akne gehören zu den häufigsten Herausforderungen im Kosmetikstudio.Doch oft bleiben die Ergebnisse aus – nicht wegen fehlender Möglichkeiten\, sondern aufgrund typischer Behandlungsfehler. \nWenn Sie diese erkennen und gezielt vermeiden\, können Sie die Haut deutlich schneller beruhigen und nachhaltige Ergebnisse erzielen. \nIn diesem Webinar zeigen wir Ihnen: \n\nwelche Prozesse hinter Akne stehen und warum sie oft immer wiederkehrt\ndie 5 häufigsten Fehler in der Akne-Behandlung – und wie sie die Haut zusätzlich belasten\nwarum „zu viel“ Behandlung oft kontraproduktiv ist\nwie Sie die Hautbarriere schützen und gleichzeitig effektiv gegen Entzündungen arbeiten\nwelche Wirkstoffe wirklich sinnvoll sind – und welche Sie besser vermeiden sollten\nwie Sie eine klare\, strukturierte Behandlungsstrategie aufbauen\n\nSie erhalten fundiertes Wissen\, neue Perspektiven und sofort umsetzbare Ansätze für Ihren Studioalltag. \nFür wen ist das Webinar geeignet?Für Kosmetikerinnen\, die ihre Akne-Behandlungen verbessern möchten und ihren Kundinnen nachhaltige\, sichtbare Ergebnisse bieten wollen – mit modernen\, durchdachten Methoden.
URL:https://renew-kosmetik.de/event/die-5-haeufigsten-fehler-bei-der-akne-behandlung-und-wie-sie-sie-vermeiden
CATEGORIES:Webinar
ATTACH;FMTTYPE=image/png:https://renew-kosmetik.de/wp-content/uploads/2026/04/Nurnberg-2026-04-07T163859.070.png
END:VEVENT
END:VCALENDAR