BEGIN:VCALENDAR
VERSION:2.0
PRODID:-//Renew Kosmetik - ECPv6.15.20//NONSGML v1.0//EN
CALSCALE:GREGORIAN
METHOD:PUBLISH
X-ORIGINAL-URL:https://renew-kosmetik.de
X-WR-CALDESC:Veranstaltungen für Renew Kosmetik
REFRESH-INTERVAL;VALUE=DURATION:PT1H
X-Robots-Tag:noindex
X-PUBLISHED-TTL:PT1H
BEGIN:VTIMEZONE
TZID:Europe/Berlin
BEGIN:DAYLIGHT
TZOFFSETFROM:+0100
TZOFFSETTO:+0200
TZNAME:CEST
DTSTART:20250330T010000
END:DAYLIGHT
BEGIN:STANDARD
TZOFFSETFROM:+0200
TZOFFSETTO:+0100
TZNAME:CET
DTSTART:20251026T010000
END:STANDARD
BEGIN:DAYLIGHT
TZOFFSETFROM:+0100
TZOFFSETTO:+0200
TZNAME:CEST
DTSTART:20260329T010000
END:DAYLIGHT
BEGIN:STANDARD
TZOFFSETFROM:+0200
TZOFFSETTO:+0100
TZNAME:CET
DTSTART:20261025T010000
END:STANDARD
BEGIN:DAYLIGHT
TZOFFSETFROM:+0100
TZOFFSETTO:+0200
TZNAME:CEST
DTSTART:20270328T010000
END:DAYLIGHT
BEGIN:STANDARD
TZOFFSETFROM:+0200
TZOFFSETTO:+0100
TZNAME:CET
DTSTART:20271031T010000
END:STANDARD
END:VTIMEZONE
BEGIN:VEVENT
DTSTART;TZID=Europe/Berlin:20260428T100000
DTEND;TZID=Europe/Berlin:20260428T170000
DTSTAMP:20260423T143715
CREATED:20251003T122735Z
LAST-MODIFIED:20260403T161010Z
UID:29976-1777370400-1777395600@renew-kosmetik.de
SUMMARY:Профессиональная глубокая чистка: от теории до постановки руки (28.04)
DESCRIPTION:На практическом воркшопе от Renew Cosmetics вы шаг за шагом освоите технику профессиональной глубокой чистки и закрепите навыки на нескольких моделях. \nСпикер: Ольга Изиева — врач\, эксперт по эстетической косметологии и уходу за кожей. \nВас ждет: \n\nЧеткое понимание различий между травматической и атравматической чисткой\nВсе этапы классической глубокой чистки и их особенности — в доступной и практической подаче\nПодготовка кожи: что можно обрабатывать\, а что категорически нельзя\nПрактика руками: обучение правильной пальпации кожи и подлежащих структур\nОтработка идеального положения рук: корректировка и закрепление техники\, которую вы сможете сразу внедрить в своей работе\n\n  \nГлавное преимущество: \nЭто не теория ради теории — вы будете большую часть времени работать вживую\, отрабатывать технику и закреплять навыки на реальных моделях. \nПоднимите свои процедуры на новый уровень\, предложите клиентам результат\, который восхищает\, и сделайте ваше студию заметно сильнее конкурентов. \n  \n⚡ Количество мест строго ограничено — успейте забронировать участие!
URL:https://renew-kosmetik.de/event/professionalnaya-glubokaya-chistka-ot-teorii-do-postanovki-ruki-28-04-26
LOCATION:Kopernikusstr. 18 Nürnberg\, Kopernikusstr. 18\, Nürnberg\, Germany
CATEGORIES:Seminar
ATTACH;FMTTYPE=image/png:https://renew-kosmetik.de/wp-content/uploads/2025/10/Nurnberg-72.png
END:VEVENT
BEGIN:VEVENT
DTSTART;TZID=Europe/Berlin:20260429T100000
DTEND;TZID=Europe/Berlin:20260429T170000
DTSTAMP:20260423T143715
CREATED:20250829T175339Z
LAST-MODIFIED:20260403T161046Z
UID:27784-1777456800-1777482000@renew-kosmetik.de
SUMMARY:Профессиональная глубокая чистка: от теории до постановки руки (29.04)
DESCRIPTION:На практическом воркшопе от Renew Cosmetics вы шаг за шагом освоите технику профессиональной глубокой чистки и закрепите навыки на нескольких моделях. \nСпикер: Ольга Изиева — врач\, эксперт по эстетической косметологии и уходу за кожей. \nВас ждет: \n\nЧеткое понимание различий между травматической и атравматической чисткой\nВсе этапы классической глубокой чистки и их особенности — в доступной и практической подаче\nПодготовка кожи: что можно обрабатывать\, а что категорически нельзя\nПрактика руками: обучение правильной пальпации кожи и подлежащих структур\nОтработка идеального положения рук: корректировка и закрепление техники\, которую вы сможете сразу внедрить в своей работе\n\n  \nГлавное преимущество: \nЭто не теория ради теории — вы будете большую часть времени работать вживую\, отрабатывать технику и закреплять навыки на реальных моделях. \nПоднимите свои процедуры на новый уровень\, предложите клиентам результат\, который восхищает\, и сделайте ваше студию заметно сильнее конкурентов. \n  \nКоличество мест строго ограничено — успейте забронировать участие!
URL:https://renew-kosmetik.de/event/seminar-professionelle-tiefenreinigung-29-04-26
LOCATION:RENEW Cosmetics Kopernikusstr. 18 | 90459 Nürnberg\, Kopernikusstr. 18\, Nürnberg\, Nürnberg\, 90459\, Germany
CATEGORIES:Seminar
ATTACH;FMTTYPE=image/png:https://renew-kosmetik.de/wp-content/uploads/2025/10/Nurnberg-73.png
END:VEVENT
END:VCALENDAR